Workbook

Sheet Budget_Utf 2014-15
A1: Norrtälje 2015-04-30
A3: VÄMLINGE SÖDRA SAMFÄLLIGHETSFÖRENING
A4: Organisationsnr 716418-2862
A6: UTFALL och BUDGET 2014-2015 o Utfall 2013-2014
B8: UTFALL 2014-2015 | C8: BUDGET 2014-2015 | D8: UTFALL 2013-2014
B9: Helt år | C9: Helt år | D9: Helt år
A10: INGÅENDE BALANS 1 MAJ | B10: =D51 -> 59861.74 | C10: =D51 -> 59861.74 | D10: 58413.92
A12: INTÄKTER
A13: Medlemsavgifter | B13: =Bokföring!I105-Bokföring!H105 -> 174250.6 | C13: =117*1500 -> 175500 | D13: 218916
A14: Påminnelseavgifter | B14: =Bokföring!M105 -> 100 | C14: 300 | D14: 300
A15: Driftsbidrag Trafikverket | B15: =Bokföring!K105 -> 7618 | C15: 8000 | D15: 8034
A16: Från midsommarkontot | B16: 0 | C16: 0 | D16: 0
A17: Dikesröjning | B17: =Bokföring!O105-B16 -> 0 | C17: 0 | D17: 0
A18: Försäkr.ers | B18: =0 -> 0 | C18: 0 | D18: 0
A19: Årets underskott | B19: 0 | C19: =0 -> 0 | D19: 0
A20: SUMMA | B20: =SUM(B13:B19) -> 181968.6 | C20: =SUM(C13:C19) -> 183800 | D20: 227250
A23: KOSTNADER
A24: Vägsamfällighet Stj/Väm | B24: =Bokföring!P105 -> 0 | C24: 0 | D24: 64350
A25: Städdagskostn | B25: =Bokföring!R105 -> 18404.9 | C25: 16000 | D25: 15281.95
A26: Vägunderhåll Barmark | B26: =Bokföring!T105 -> 8173 | C26: 13000 | D26: 31920
A27: Väghyvling inkl grus, kantskärning | B27: =Bokföring!T105-B28 -> 5173 | C27: 5000 | D27: 29201
A28: Vägslåtter, diken mm | B28: =Bokföring!T102 -> 3000 | C28: 8000 | D28: 2719
A29: Vägunderhåll Vinter inkl sand/grus | B29: =Bokföring!V105 -> 16938 | C29: 25000 | D29: 16724
A30: Övrigt, löpande underhåll | B30: =Bokföring!X105 -> 26758.48 | C30: 28300 | D30: 27481.38
A31: Grönområdesunderhåll | B31: =Bokföring!Z105 -> 30639 | C31: =SUM(C32:C34) -> 36250 | D31: 14493
A32: Vindfällen, trädfällning, skogsplan | B32: =Bokföring!Z36+Bokföring!Z70+Bokföring!Z79 -> 14937 | C32: 15000 | D32: 2100
A33: Grenar längs vägar, vass mm | B33: 0 | C33: 0 | D33: 0
A34: Buskröjning, vass mm | B34: =Bokföring!Z29+Bokföring!Z66+Bokföring!Z77+Bokföring!Z78 -> 15702 | C34: =15000+6250 -> 21250 | D34: 12393
A35: Arvoden, styrelse o revision | B35: =Bokföring!AF105 -> 9770 | C35: 9770 | D35: 9370
A36: Reseersättning | B36: =Bokföring!AH105 -> 9400 | C36: 8200 | D36: 6800
A37: Skatt o arbetsgivaravgift | B37: =Bokföring!AD105 -> 22984 | C37: 20500 | D37: 21336
A38: REV årsavgift mm | B38: =Bokföring!AR88+Bokföring!AR87 -> 3360 | C38: 2260 | D38: 1160
A39: Bygdegård, hyra, avg.fört. | B39: =Bokföring!AR10+Bokföring!AR83+Bokföring!AR85 -> 50 | C39: 650 | D39: 650
A40: PG- avgifter | B40: =Bokföring!AP105 -> 469.5 | C40: 470 | D40: 471
A41: Uppvaktning/avtackning | B41: =Bokföring!AR13+Bokföring!AR20 -> 1967 | C41: 1300 | D41: 1324.7
A42: Hemsida o dataprogram | B42: =Bokföring!AR51 -> 1625 | C42: 1700 | D42: 1625
A43: Kontorsmatr.porto etc | B43: =Bokföring!AN105 -> 2418 | C43: 2400 | D43: 2358
A44: Inköp - rep etc | B44: =Bokföring!AB105 -> 3600 | C44: 15000 | D44: 10028
A45: Års-styrelsemöten | B45: =Bokföring!AJ105+Bokföring!AL105 -> 782.9 | C45: 1500 | D45: 429.15
A46: Övriga kostnader | B46: =Bokföring!AR105-'Budget_Utf 2014-15'!B42-'Budget_Utf 2014-15'!B41-'Budget_Utf 2014-15'!B39-'Budget_Utf 2014-15'!B38-B47 -> 2500 | C46: 1500 | D46: 0
A47: Skyltar | B47: =Bokföring!AR89 -> 450 | C47: 0 | D47: 0
A48: Årets överskott | B48: 21678.82 | C48: 0 | D48: 1447.82
A49: SUMMA | B49: =SUM(B24:B48)-B32-B33-B34-B27-B28 -> 181968.6 | C49: =SUM(C24:C48)-C27-C28-C32-C33-C34 -> 183800 | D49: 227250
A51: Utgående saldo | B51: =B10-B19+B48+B53 -> 81540.56 | C51: =C10+C48-C19 -> 59861.74 | D51: =D10+D48 -> 59861.74 | E51: pg 2015-04-30 | F51: =83180.56 -> 83180.56
E52: I kassan | F52: 18000
A53: Resultat | B53: =B20-B49 -> 0 | C53: 0 | D53: 1447.82 | E53: Summa | F53: =F51+F52 -> 101180.56
E54: Minus bokningar | F54: -13800
A55: Mark och Väg | B55: =B26+B29+B30+B31 -> 82508.48 | C55: =C26+C29+C30+C31 -> 102550 | D55: =D26+D29+D30+D31 -> 90618.38 | E55: Minus bokningar | F55: -3000
A56: _________________________________________________________________ | B56: ____________________________ | C56: ____________________________ | D56: __________________ | E56: Minus bokningar | F56: -1970
E57: Minus bokningar | F57: -870
F58: =SUM(F53:F57) -> 81540.56
A59: BEHÅLLNING MIDSOMMARKONTO | B59: Faktiskt utfall 2014-2015 | C59: Budget 2014-2015 | D59: Faktiskt utfall 2013-2014
A60: Tidigare års behållning | B60: =D70 -> 31606.34 | C60: =D70 -> 31606.34 | D60: 27815.23
A61: Ränta | B61: 107.06 | C61: 300 | D61: 322.11
A62: Överskott Midsommarfest | B62: 6069 | C62: 2500 | D62: =3703+9119-8000-500 -> 4322
A63: Överskott Bingon | B63: 5615 | C63: 2500 | D63: 4726
A64: Tipsrunda 2013 | D64: 1920
A65: Uttag 2013 förskott priser, lotterier mm | C65: -8000 | D65: 10000
A66: Förskott 2014 | B66: 273 | D66: -273
A67: Sand t sandlådor 2014; Sopkorgar 2013 | B67: -2283 | D67: =-9000-1800 -> -10800
A68: Klätterställning 2015 Grillmöbler 2013 | B68: -7195 | D68: -6426
A69: Inköp 2014-2015 | C69: -7000
A70: Saldo Midsommarkonto | B70: =SUM(B60:B69) -> 34192.4 | C70: =SUM(C60:C69) -> 21906.34 | D70: =SUM(D60:D69) -> 31606.34
F73: =A1 -> Norrtälje 2015-04-30
A74: VÄMLINGE SÖDRA SAMFÄLLIGHETSFÖRENING
A76: SPECIFIKATION PÅ INTÄKTS- o KOSTNADSKONTON
A77: INTÄKTSKONTON | B77: UTFALL 2014-2015 | C77: SPECIFIKATION till utfall | E77: BUDGET 2014-2015 | F77: UTFALL 2013-2014
A78: Medlemsavgifter | B78: =B13 -> 174250.6 | E78: =C13 -> 175500 | F78: =D13 -> 218916
A79: Påminnelseavgifter | B79: =B14 -> 100 | E79: =C14 -> 300 | F79: =D14 -> 300
A80: Driftsbidrag Trafikverket | B80: =B15 -> 7618 | C80: Bidrag från Trafikverket | E80: =C15 -> 8000 | F80: =D15 -> 8034
A81: Från midsommarkontot | B81: =B16 -> 0 | E81: =C16 -> 0 | F81: =D16 -> 0
A82: Dikesröjning | B82: =B17 -> 0 | E82: =C17 -> 0 | F82: =D17 -> 0
A83: Försäkr.ers | B83: =B18 -> 0 | E83: =C18 -> 0 | F83: =D18 -> 0
A84: Årets underskott | B84: =B19 -> 0 | E84: =C19 -> 0 | F84: =D19 -> 0
A85: SUMMA | B85: =SUM(B78:B84) -> 181968.6 | E85: =SUM(E78:E84) -> 183800 | F85: =SUM(F78:F84) -> 227250
A86: Kostnadskonton
A87: Vägsamfällighet Stj/Väm | B87: =B24 -> 0 | E87: =C24 -> 0 | F87: =D24 -> 64350
A88: Städdagskostn | B88: =B25 -> 18404.9 | C88: Tändvätska 70 kr; eldningsdispens 1175 kr; olja o penslar 1390 kr; uppbokad kostnad t medlemmar 13800 kr; uppbokad kostnad för korvgrillning 1969 kr; | E88: =C25 -> 16000 | F88: =D25 -> 15281.95
A89: Vägunderhåll Barmark | B89: =B26 -> 8173 | C89: Ers BjN kantskärning 2475 kr; 15,48 ton grus till potthål 2698 kr; uppbokning vägslåtter 3000 kr | E89: =C26 -> 13000 | F89: =D26 -> 31920
A90: Vägunderhåll Vinter | B90: =B29 -> 16938 | C90: 20 tim | E90: =C29 -> 25000 | F90: =D29 -> 16724
A91: Övrigt underhåll | B91: =B30 -> 26758.48 | C91: 300 kr förråd; presentkort klipphjälp 250 kr; trall till lagn brevlådor 117 kr; bensin 617 kr; 40 tim mars-juni StP; bensin 616,50 kr; soppåsar 70 kr; 25,5 tim jun-aug StP; utökad sophämtning 234 kr; skyltar till sopkorgar 149 kr;SP ers 13 tim +vinterstakning 4620 kr; hyra borr för vinterstakning 797 kr; sophämtning 1700 kr; bensin 617 kr; vimpel+sopsäckar+sexkantnät 866 kr | E91: =C30 -> 28300 | F91: =D30 -> 27481.38
A92: Grönområdesunderhåll | B92: =B31 -> 30639 | C92: Ers BjN vassröjning 1500 kr; vindfälle CoF 1274 kr; plast t trädmärkning 96 kr; Skogsutrening 10088 kr; slyröjning 14106 kr; marklov fr kommunen 3575 kr; | E92: =C31 -> 36250 | F92: =D31 -> 14493
A93: Arvoden, styrelse o revision | B93: =B35 -> 9770 | C93: Se förteckning | E93: =C35 -> 9770 | F93: =D35 -> 9370
A94: Reseersättning | B94: =B36 -> 9400 | C94: Se förteckning; CuL 1000 kr; | E94: =C36 -> 8200 | F94: =D36 -> 6800
A95: Skatt o arbetsgivaravgift | B95: =B37 -> 22984 | E95: =C37 -> 20500 | F95: =D37 -> 21336
A96: REV medlemsavgift/försäkring | B96: =B38 -> 3360 | C96: Förbundsstämma 2200 kr; årsavgift 2015 1160 kr; | E96: =C38 -> 2260 | F96: =D38 -> 1160
A97: Bygdegård, hyra, avg.fört. | B97: =B39 -> 50 | C97: Vändning uppbokning hyra årsmöte 500 kr; medlemsavg 150 kr; hyra 2015 årsmöte 400 kr; | E97: =C39 -> 650 | F97: =D39 -> 650
A98: PG- avgifter | B98: =B40 -> 469.5 | C98: Årsavgift pg-konto 450 kr | E98: =C40 -> 470 | F98: =D40 -> 471
A99: Uppvaktning/avtackning | B99: =B41 -> 1967 | C99: Avtackning Kjell o Robert 1500 kr; blommor för avtackning 3 st 467 kr; | E99: =C41 -> 1300 | F99: =D41 -> 1324.7
A100: Hemsida o dataprogram | B100: =B42 -> 1625 | C100: Hemsida 1625 kr; | E100: =C42 -> 1700 | F100: =D42 -> 1625
A101: Kontorsmatr.porto etc | B101: =B43 -> 2418 | C101: Porto 280 kr; kuvert o porto 1220 kr; bläckpatron, papper 388 kr; frimärken 140 kr; porto 390 kr | E101: =C43 -> 2400 | F101: =D43 -> 2358
A102: Inköp - rep etc | B102: =B44 -> 3600 | C102: 4 pumptermos 601 kr; uppbokad kostnad för reparation av bodar och ponton 870 kr; | E102: =C44 -> 15000 | F102: =D44 -> 10028
A103: Års-/styrelsemöten | B103: =B45-Bokföring!AJ101 -> 782.9 | C103: Förtäring, grillning, vid årsmötet 783 kr; | E103: =C45 -> 1500 | F103: =D45 -> 429.15
A104: Övriga kostnader | B104: =B46 -> 2500 | C104: Hedenlund Marklösen utr förrättn 5000 kr; 50% fr Vägföreningen -2500 kr; | E104: =C46 -> 1500 | F104: =D46 -> 0
A105: Skyltar | B105: =B47 -> 450 | C105: Skylt 450 kr: | E105: =C47 -> 0 | F105: 0
A106: Årets överskott | B106: =B48 -> 21678.82 | E106: =C48 -> 0 | F106: 1447.82
A107: SUMMA | B107: =SUM(B87:B106) -> 181968.6 | E107: =SUM(E87:E106) -> 183800 | F107: =SUM(F87:F106) -> 227250
B109: Väm SFF | C109: Midsom | D109: Beskrivn.
A110: Ing Kassabehållning | B110: =Bokföring!#REF!+Bokföring!#REF! -> #REF! | C110: =[1]midsommar!G19 -> 25622.07 | F110: 22905.08
D111: Ränta | F111: =-22122.07 -> -22122.07
...

Sheet Bokföring
A3: KASSABOK Vämlinge Södra Samfällighetsförening
A4: 2014-05-01--2015-04-30 | G4: =9770-400 -> 9370
D5: KASSA & BANK | I5: INTÄKTER | P5: KOSTNADER
D6: Handkassa | F6: Postgiro | H6: Medlemsavgifter | J6: Driftsbidrag TV | L6: Påminnelseavgifter | N6: Övriga intäkter | P6: Vägsamfällighet Stj/Väm | R6: Städdagskostn | T6: Vägunderhåll Barmark | V6: Vägunderhåll Vinter | X6: Underhåll SP | Z6: Grönområdesunderhåll | AB6: Inköp/rep mm | AD6: Skatt och arb givaravg | AF6: Arvoden | AH6: Reseersättning | AJ6: Årsmöte | AL6: Styrelsemöten | AN6: Kontorsmtrl, porto | AP6: Bankavgifter | AR6: Övriga kostnader
A7: Ver nr | B7: Datum | C7: Text | D7: Debet | E7: Kredit | F7: Debet | G7: Kredit | H7: Debet | I7: Kredit | J7: Debet | K7: Kredit | L7: Debet | M7: Kredit | N7: Debet | O7: Kredit | P7: Debet | Q7: Kredit | R7: Debet | S7: Kredit | T7: Debet | U7: Kredit | V7: Debet | W7: Kredit | X7: Debet | Y7: Kredit | Z7: Debet | AA7: Kredit | AB7: Debet | AC7: Kredit | AD7: Debet | AE7: Kredit | AF7: Debet | AG7: Kredit | AH7: Debet | AI7: Kredit | AJ7: Debet | AK7: Kredit | AL7: Debet | AM7: Kredit | AN7: Debet | AO7: Kredit | AP7: Debet | AQ7: Kredit | AR7: Debet | AS7: Kredit | AT7: Check
A8: INGÅENDE BALANS | D8: 0 | F8: 73361.74
A9: 1 | B9: 41760 | C9: Vändning: Snöröjning | V9: -13000
A10: 2 | B10: 41760 | C10: Vändning: Bygdegårdshyra till Vägför | AR10: -500
A11: 3 | B11: 41765 | C11: Bg-avgift | G11: 3 | AP11: 3
A12: 4 | B12: 41785 | C12: Revisorsarvode (uttag KaB) | G12: 400 | AF12: 400
A13: 5 | B13: 41785 | C13: Avtackning vid kommande årsmöte | G13: =1000+500 -> 1500 | AR13: 1500
A14: 6 | B14: 41785 | C14: Ers förråd KrG | G14: 300 | X14: 300
A15: 7 | B15: 41785 | C15: Tommy Nyström Snöröjning | G15: 13000 | V15: 13000
A16: 8 | B16: 41789 | C16: Medlemsavgift | F16: 1500 | I16: 1500
A17: 9 | B17: 41793 | C17: Inköp pumptermos 4 st | G17: 601 | AB17: 601
A18: 10 | B18: 41794 | C18: Bg-avgift | G18: 1.5 | AP18: 1.5
A19: 11 | B19: 41802 | C19: Porto+tändvätska; ers utlägg KjR | G19: 349.9 | R19: 69.9 | AN19: 280
A20: 12 | B20: 41806 | C20: Blommor till avtackning, årsmöte | G20: 467 | AR20: 467
A21: 13 | B21: 41806 | C21: Förtäring vid årsmötet, grillning | G21: 782.9 | AJ21: 782.9
A22: 14 | B22: 41806 | C22: Bensin, presentkort klipphjälp mm | G22: 983.79 | X22: 983.79
A23: 15 | B23: 41807 | C23: Arvoden + reseersättning | G23: =15970 -> 15970 | AF23: =8970+400 -> 9370 | AH23: =1200+1200+1000+1200+800+1000+200 -> 6600
A24: 16 | B24: 41808 | C24: Reseersättning | G24: 1600 | AH24: 1600
A25: 17 | B25: 41817 | C25: Medlemsavgift | F25: 1500 | I25: 1500
A26: 18 | B26: 41820 | C26: Ers Stig P 40 tim | G26: 8060 | X26: 8060
A27: 19 | B27: 41823 | C27: Bg-avgift | G27: 1.5 | AP27: 1.5
A28: 20 | B28: 41824 | C28: Ers Björn Norrblom; kantskärning | G28: 2475 | T28: 2475
A29: 21 | B29: 41829 | C29: Ers Björn norrblom; vassröjning | G29: 1500 | Z29: 1500
A30: 22 | B30: 41837 | C30: Medlemsavgift | F30: 1500 | I30: 1500
A31: 23 | B31: 41841 | C31: Medlemsavgifter | F31: 7500 | I31: 7500
A32: 24 | B32: 41843 | C32: Medlemsavgifter | F32: 4500 | I32: 4500
A33: 25 | B33: 41844 | C33: Medlemsavgifter | F33: 4500 | I33: 4500
A34: 26 | B34: 41845 | C34: Medlemsavgifter | F34: 4500 | I34: 4500
A35: 27 | B35: 41848 | C35: Medlemsavgifter | F35: 13500.6 | I35: 13500.6
A36: 28 | B36: 41848 | C36: Vindfälle hos Conny fredriksson | G36: 1274 | Z36: 1274
A37: 29 | B37: 41849 | C37: Medlemsavgifter | F37: 7500 | I37: 7500
A38: 30 | B38: 41850 | C38: Medlemsavgifter | F38: 3000 | I38: 3000
A39: 31 | B39: 41851 | C39: Medlemsavgifter | F39: 9000 | I39: 9000
A40: 32 | B40: 41852 | C40: Medlemsavgifter | F40: 6000 | I40: 6000
A41: 33 | B41: 41856 | C41: BG-avgift | G41: 1.5 | AP41: 1.5
A42: 34 | B42: 41858 | C42: Medlemsavgift | F42: 1500 | I42: 1500
A43: 35 | B43: 41859 | C43: Medlemsavgift | F43: 1500 | I43: 1500
A44: 36 | B44: 41863 | C44: Arb giv avg + prel skatt | G44: 13956 | AD44: 13956
A45: 37 | B45: 41866 | C45: Medlemsavgift | F45: 1500 | I45: 1500
A46: 38 | B46: 41870 | C46: Medlemsavgift | F46: 1500 | I46: 1500
A47: 39 | B47: 41873 | C47: Medlemsavgifter | F47: 3000 | I47: 3000
A48: 40 | B48: 41876 | C48: Medlemsavgifter | F48: 6000 | I48: 6000
A49: 41 | B49: 41877 | C49: Medlemsavgifter | F49: 10500 | I49: 10500
A50: 42 | B50: 41878 | C50: Medlemsavgifter | F50: 10500 | I50: 10500
A51: 43 | B51: 41878 | C51: Hemsida | G51: 1625 | AR51: 1625
A52: 44 | B52: 41879 | C52: Ers utlägg Stig bensin bl a | G52: 686.5 | X52: 686.5
A53: 45 | B53: 41879 | C53: Medlemsavgifter | F53: 7500 | I53: 7500
A54: 46 | B54: 41880 | C54: Medlemsavgifter | F54: 45250 | I54: 45250
A55: 47 | B55: 41883 | C55: Kuvert o frimärken (ers InS) | G55: 1219.8 | AN55: 1219.8
A56: 48 | B56: 41883 | C56: Ers Stig 25,5 tim | G56: 5138 | X56: 5138
A57: 49 | B57: 41883 | C57: Medlemsavgifter | F57: 6000 | I57: 6000
A58: 50 | B58: 41884 | C58: Medlemsavgift | F58: 1500 | I58: 1500
A59: 51 | B59: 41885 | C59: Bg-avgifter | G59: 3 | AP59: 3
A60: 52 | B60: 41886 | C60: Tagessons grus 15,48 ton t potthål | G60: 2698 | T60: 2698
A61: 53 | B61: 41887 | C61: Medlemsavgift | F61: 1500 | I61: 1500
A62: 54 | B62: 41890 | C62: Medlemsavgifter | F62: 6000 | I62: 6000
A63: 55 | B63: 41891 | C63: Medlemsavgifter | F63: 1550 | I63: 1500 | M63: 50
A64: 56 | B64: 41911 | C64: Utökad sophämtning | G64: 234 | X64: 234
A65: 57 | B65: 41912 | C65: Medlemsavgift | F65: 1500 | I65: 1500
A66: 58 | B66: 41913 | C66: Ers utlägg CuL kont mtrl, plast t träd | G66: 633.2 | X66: =149 -> 149 | Z66: =46+50 -> 96 | AN66: 388.2
A67: 59 | B67: 41926 | C67: Medlemsavgift | F67: 1550 | I67: 1500 | M67: 50
A68: 60 | B68: 41927 | C68: Medlemsavgift | F68: 1500 | I68: 1500
A69: 61 | B69: 41928 | C69: Ers utlägg Curt L frimärken+reseers | G69: 1140 | AH69: 1000 | AN69: 140
A70: 62 | B70: 41929 | C70: Skogsutredning | G70: 10088 | Z70: 10088
A71: 63 | B71: 41934 | C71: Hedenlund Marklösen, utredn | G71: 5000 | AR71: 5000
A72: 64 | B72: 41934 | C72: HM 50% från Vägföreningen | F72: 2500 | AR72: -2500
A73: 65 | B73: 41948 | C73: Bg-avgift | G73: 3 | AP73: 3
A74: 66 | B74: 41949 | C74: Ers Stig 13 tim + stakning | G74: 4620 | X74: 4620
A75: 67 | B75: 41950 | C75: Skatt o arb givaravgift t o m oktober | G75: 6786 | AD75: 6786
A76: 68 | B76: 41956 | C76: Ramirent; maskin för vinterstakning | G76: 797.19 | X76: 797.19
A77: 69 | B77: 41976 | C77: Bg-avgift | G77: 3 | AP77: 3
A78: 70 | B78: 41984 | C78: Roslagens Farmartj Slyröjning | G78: 14106 | Z78: 14106
A79: 71 | B79: 41996 | C79: N-tälje kommun Markbygglov | G79: 3575 | Z79: 3575
A80: 72 | B80: 42011 | C80: Årsavgift pg-konto | G80: 450 | AP80: 450
A81: 73 | B81: 42037 | C81: Bidrag fr Trafiksäkerhetsverket | F81: 7618 | K81: 7618
A82: 74 | B82: 42038 | C82: Reseers Curt; förrättningsmöte | G82: 200 | AH82: 200
A83: 75 | B83: 42072 | C83: Medlemsavgift Estuna | G83: 150 | AR83: 150
A84: 76 | B84: 42089 | C84: Sophämtning | G84: 1700 | X84: 1700
A85: 77 | B85: 42090 | C85: Hyra Estuna till årsmötet | G85: 400 | AR85: 400
A86: 78 | B86: 42101 | C86: Bg-avgift | G86: 3 | AP86: 3
A87: 79 | B87: 42104 | C87: REV medlemsavgift för 2015 | G87: 1160 | AR87: 1160
A88: 80 | B88: 42104 | C88: REV Förbundsstämma | G88: 2200 | AR88: 2200
A89: 81 | B89: 42121 | C89: Skylt om Lösa hundar | G89: 450 | AR89: 450
A90: 82 | B90: 42121 | C90: Dispens eldningsförbud N-tälje | G90: 1175 | R90: 1175
A91: 83 | B91: 42121 | C91: Ers Björn f olja o penslar | G91: 1390 | R91: 1390
A92: 84 | B92: 42121 | C92: Snöröjning | G92: 16938 | V92: 16938
A93: 85 | B93: 42122 | C93: Ers Ingrid för porto | G93: 390 | AN93: 390
A94: 86 | B94: 42122 | C94: Ers utlägg Stig bensin, virke bl a | G94: 2995 | X94: =179+70+617 -> 866 | AB94: 2129
A95: 87 | B95: 42122 | C95: Ers 16 tim till Stig P | G95: 3224 | X95: 3224
A96: 88 | B96: 42122 | C96: Uttag till handkassa | D96: 18000 | G96: 18000
A97: 89 | B97: 42123 | C97: Prelskatt + arb givaravgift | G97: 2242 | AD97: 2242
A99: Bokslutsdispositioner:
A100: 90 | B100: 42124 | C100: Städdagen; utgifter för korv mm | G100: 1970 | R100: 1970
A101: 91 | B101: 42124 | C101: Städdagen; ers till medlemmar | G101: 13800 | R101: 13800
A102: 92 | B102: 42124 | C102: Vägslåtter juli 2014 | G102: 3000 | T102: 3000
A103: 93 | B103: 42124 | C103: Material till rep bodar resp ponton | G103: 870 | AB103: 870
...

Sheet Ers Stig 1-13
A1: Budgetår 2013-14
A2: Lönebesked n 1 2013 | B2: Samfällighetsföreningen Vämlinge Södra
A4: Namn: | B4: Stig Persson
A5: Pnr: | B5: 401203-6952
A6: Utbetalt: | B6: 41453
A8: Ers avser period: | B8: Maj - juni 2013
A10: Lön | B10: =32*310 -> 9920
A11: Prel skatt | B11: =-0.35*B10 -> -3472
A12: Utbetalt | B12: =B10+B11 -> 6448
A15: Totalt utbetalt | B15: =B12 -> 6448
A17: Kajsa Björkman
A18: Kassör Samfällighetsföreningen

Sheet Ers Stig 2-13
A1: Budgetår 2013-14
A2: Lönebesked n 2 2013 | B2: Samfällighetsföreningen Vämlinge Södra
A4: Namn: | B4: Stig Persson
A5: Pnr: | B5: 401203-6952
A6: Utbetalt: | B6: 41526
A8: Ers avser period: | B8: Juli - aug 2013
A10: Lön | B10: =26*310 -> 8060
A11: Prel skatt | B11: =-0.35*B10 -> -2821
A12: Utbetalt | B12: =B10+B11 -> 5239
A15: Totalt utbetalt | B15: =B12 -> 5239
A17: Kajsa Björkman
A18: Kassör Samfällighetsföreningen

Sheet Ers Stig 3-13
A1: Budgetår 2013-2014
A2: Lönebesked nr 3 2013 | B2: Samfällighetsföreningen Vämlinge Södra
A4: Namn: | B4: Stig Persson
A5: Pnr: | B5: 401203-6952
A6: Utbetalt: | B6: 41583
A8: Ers avser period: | B8: Sep - okt 2013
A10: Lön, 12 tim | B10: =12*310 -> 3720
A11: Prel skatt | B11: =-0.35*B10 -> -1302
A12: Utbetalt | B12: =B10+B11 -> 2418
A14: Vinterstakning | B14: 3077
A15: Prel skatt | B15: =-0.35*B14 -> -1076.95
A16: Utbetalt | B16: =B14+B15 -> 2000.05
A18: Totalt utbetalt | B18: =B12+B16 -> 4418.05
A20: Kajsa Björkman
A21: Kassör Samfällighetsföreningen

Sheet Ers Stig 1-14
A1: Budgetår 2013-14
A2: Lönebesked nr 1 2014 | B2: Samfällighetsföreningen Vämlinge Södra
A4: Namn: | B4: Stig Persson
A5: Pnr: | B5: 401203-6952
A6: Utbetalt: | B6: 41699
A8: Ers avser period: | B8: Dec 2013 - feb 2014
A10: Lön, 16 tim | B10: =16*310 -> 4960
A11: Prel skatt | B11: =-0.35*B10 -> -1736
A12: Utbetalt | B12: =B10+B11 -> 3224
A14: Vinterstakning | B14: 0
A15: Prel skatt | B15: =-0.35*B14 -> 0
A16: Utbetalt | B16: =B14+B15 -> 0
A18: Totalt utbetalt | B18: =B12+B16 -> 3224
A20: Kajsa Björkman
A21: Kassör Samfällighetsföreningen

Sheet Ers Stig 2-14
A1: Budgetår 2014-2015
A2: Lönebesked nr 2 2014 | B2: Samfällighetsföreningen Vämlinge Södra
A4: Namn: | B4: Stig Persson
A5: Pnr: | B5: 401203-6952
A6: Utbetalt: | B6: 41820
A8: Ers avser period: | B8: Mars 2014 - juni 2014
A10: Lön, 40 tim | B10: =40*310 -> 12400
A11: Prel skatt | B11: =-0.35*B10 -> -4340
A12: Utbetalt | B12: =B10+B11 -> 8060
A14: Vinterstakning | B14: 0
A15: Prel skatt | B15: =-0.35*B14 -> 0
A16: Utbetalt | B16: =B14+B15 -> 0
A18: Totalt utbetalt | B18: =B12+B16 -> 8060
A20: Kajsa Björkman
A21: Kassör Samfällighetsföreningen

Sheet Ers Stig 3-14
A1: Budgetår 2014-2015
A2: Lönebesked nr 3 2014 | B2: Samfällighetsföreningen Vämlinge Södra
A4: Namn: | B4: Stig Persson
A5: Pnr: | B5: 401203-6952
A6: Utbetalt: | B6: 41882
A8: Ers avser period: | B8: Juni - aug 2014
A10: Lön, 25,5 tim | B10: =25.5*310 -> 7905
A11: Prel skatt | B11: =-0.35*B10 -> -2766.75
A12: Utbetalt | B12: =B10+B11 -> 5138.25
A14: Vinterstakning | B14: 0
A15: Prel skatt | B15: =-0.35*B14 -> 0
A16: Utbetalt | B16: =B14+B15 -> 0
A18: Totalt utbetalt | B18: =B12+B16 -> 5138.25
A20: Kajsa Björkman
A21: Kassör Samfällighetsföreningen

Sheet Ers Stig 4-14
A1: Budgetår 2014-2015
A2: Lönebesked nr 4 2014 | B2: Samfällighetsföreningen Vämlinge Södra
A4: Namn: | B4: Stig Persson
A5: Pnr: | B5: 401203-6952
A6: Utbetalt: | B6: 41948
A8: Ers avser period: | B8: Sep - okt 2014
A10: Lön, 13 tim | B10: =13*310 -> 4030
A11: Prel skatt | B11: =-0.35*B10 -> -1410.5
A12: Utbetalt | B12: =B10+B11 -> 2619.5
A14: Vinterstakning | B14: 3077
A15: Prel skatt | B15: =-0.35*B14 -> -1076.95
A16: Utbetalt | B16: =B14+B15 -> 2000.05
A18: Totalt utbetalt | B18: =B12+B16 -> 4619.55
A20: Kajsa Björkman
A21: Kassör Samfällighetsföreningen

Sheet Ers Stig 1-15
A1: Budgetår 2014-2015
A2: Lönebesked nr 1 2015 | B2: Samfällighetsföreningen Vämlinge Södra
A4: Namn: | B4: Stig Persson
A5: Pnr: | B5: 401203-6952
A6: Utbetalt: | B6: 42122
A8: Ers avser period: | B8: Mars-15
A10: Lön, 16 tim | B10: =16*310 -> 4960
A11: Prel skatt | B11: =-0.35*B10 -> -1736
A12: Utbetalt | B12: =B10+B11 -> 3224
A18: Totalt utbetalt | B18: =B12+B16 -> 3224
A20: Kajsa Björkman
A21: Kassör Samfällighetsföreningen

Sheet Ers Björn 1-14
A1: Budgetår 2014-2015
A2: Lönebesked nr 1 2014 | B2: Samfällighetsföreningen Vämlinge Södra
A4: Namn: | B4: Björn Norrblom
A5: Pnr: | B5: 470720-1416
A6: Utbetalt: | B6: 41824
A8: Ers avser period: | B8: 41791
A10: Lön, 4,5 tim à 200 kr | B10: =4.5*200 -> 900
A11: Prel skatt 25% | B11: =-0.25*B10 -> -225
A12: Utbetalt | B12: =B10+B11 -> 675
A14: Ersättning för:
A15: Maskin, bränsle mm
A16: 4,5 tim à 400 kr/tim | B16: =4.5*400 -> 1800
A18: Totalt utbetalt | B18: =B12+B16 -> 2475
A20: Kajsa Björkman
A21: Kassör Samfällighetsföreningen

Sheet Ers Björn 2-14
A1: Budgetår 2014-2015
A2: Lönebesked nr 2 2014 | B2: Samfällighetsföreningen Vämlinge Södra
A4: Namn: | B4: Björn Norrblom
A5: Pnr: | B5: 470720-1416
A6: Utbetalt: | B6: 41829
A8: Ers avser period: | B8: 41791
A10: Lön, 2 tim à 200 kr; vassröjning | B10: =2*200 -> 400
A11: Prel skatt 25% | B11: =-0.25*B10 -> -100
A12: Utbetalt | B12: =B10+B11 -> 300
A14: Ersättning för:
A15: Båt, bränsle mm
A16: 2 tim à 600 kr/tim | B16: =2*600 -> 1200
A18: Totalt utbetalt | B18: =B12+B16 -> 1500
A20: Kajsa Björkman
A21: Kassör Samfällighetsföreningen

Sheet Skatter 2014-2015
A2: Skatteredovisning för 2013 | D2: Nr 1 | E2: =E13+F13 -> -12377.192 | F2: = Inbetalt 2013-08-19
F4: 0.35
A5: Namn | B5: Personnr | C5: Bruttolön/Arvode | D5: Arb g avg % av bruttolön | E5: Ag avg | F5: Prel skatt | G5: Netto utbetalt
A7: Stig Persson | B7: 401203-6952 | C7: ='Ers Stig 1-13'!B10 -> 9920 | D7: 0.1021 | E7: =(-D7*C7) -> -1012.832 | F7: ='Ers Stig 1-13'!B11 -> -3472 | G7: =C7+F7 -> 6448
A8: Curt Lundquist | B8: 400615-7855 | C8: =Arvoden2013!C7 -> 6000 | D8: 0.1021 | E8: =-(D8*C8)+1 -> -611.6 | F8: =-$F$4*C8 -> -2100 | G8: =C8+F8 -> 3900
A9: Kajsa Björkman | B9: 511110-7867 | C9: =Arvoden2013!C8 -> 4600 | D9: 0.3142 | E9: =-D9*C9 -> -1445.32 | F9: =-$F$4*C9 -> -1610 | G9: =C9+F9 -> 2990
A10: Kjell Rudaues | B10: 490831-0214 | C10: =Arvoden2013!C9 -> 3200 | D10: 0.3142 | E10: =-D10*C10 -> -1005.44 | F10: =-$F$4*C10 -> -1120 | G10: =C10+F10 -> 2080
A13: Summa | C13: =SUM(C7:C12) -> 23720 | E13: =SUM(E7:E12) -> -4075.192 | F13: =SUM(F7:F12) -> -8302 | G13: =SUM(G7:G12) -> 15418
A16: Skatteredovisning för 2013 | D16: Nr 2 | E16: =E21+F21 -> -3642.926 | F16: = Inbetalt 2013-10-14
E17: =E22+F22 -> -3071.9237 | F17: = Inbetalt 2013-11-06
F18: 0.35
A19: Namn | B19: Personnr | C19: Bruttolön/Arvode | D19: Arb g avg % av bruttolön | E19: Ag avg | F19: Prel skatt | G19: Netto utbetalt
A21: Stig Persson | B21: 401203-6952 | C21: ='Ers Stig 2-13'!B10 -> 8060 | D21: 0.1021 | E21: =-D21*C21+1 -> -821.926 | F21: ='Ers Stig 2-13'!B11 -> -2821 | G21: =C21+F21 -> 5239
A22: Stig Persson | B22: 401203-6952 | C22: ='Ers Stig 3-13'!B10+'Ers Stig 3-13'!B14 -> 6797 | D22: 0.1021 | E22: =(-D22*C22)+1 -> -692.9737 | F22: ='Ers Stig 3-13'!B11+'Ers Stig 3-13'!B15 -> -2378.95 | G22: =C22+F22 -> 4418.05
A24: Summa | C24: =SUM(C21:C23) -> 14857 | E24: =SUM(E21:E23) -> -1514.8997 | F24: =SUM(F21:F23) -> -5199.95 | G24: =SUM(G21:G23) -> 9657.05
A28: Skatteredovisning för 2014 | D28: Nr 1 2014 | E28: =E33+F33 -> -2242.416 | F28: = Inbetalt 2014-04-28
F30: 0.35
A31: Namn | B31: Personnr | C31: Bruttolön/Arvode | D31: Arb g avg % av bruttolön | E31: Ag avg | F31: Prel skatt | G31: Netto utbetalt
A33: Stig Persson | B33: 401203-6952 | C33: ='Ers Stig 1-14'!B10 -> 4960 | D33: 0.1021 | E33: =-D33*C33 -> -506.416 | F33: ='Ers Stig 1-14'!B11 -> -1736 | G33: =C33+F33 -> 3224
D34: 0.1021 | G34: =C34+F34 -> 0
A36: Summa | C36: =SUM(C33:C35) -> 4960 | E36: =SUM(E33:E35) -> -506.416 | F36: =SUM(F33:F35) -> -1736 | G36: =SUM(G33:G35) -> 3224
A39: Skatteredovisning för 2014 | D39: Nr 2 | E39: =E51+F51 -> -13956.13 | F39: = Redovisat 2014-08-06; Inbetalt 2014-08-12
F41: 0.35
A42: Namn | B42: Personnr | C42: Bruttolön/Arvode | D42: Arb g avg % av bruttolön | E42: Ag avg | F42: Prel skatt | G42: Netto utbetalt
A44: Curt Lundquist | B44: 400615-7855 | C44: =Arvoden2014!C7 -> 6000 | D44: 0.1021 | E44: =-(D44*C44)+1 -> -611.6 | F44: =-$F$4*C44 -> -2100 | G44: =C44+F44 -> 3900
A45: Kajsa Björkman | B45: 511110-7867 | C45: =Arvoden2014!C8 -> 4600 | D45: 0.3142 | E45: =-D45*C45 -> -1445.32 | F45: =-$F$4*C45 -> -1610 | G45: =C45+F45 -> 2990
A46: Kjell Rudaues | B46: 490831-0214 | C46: =Arvoden2014!C9 -> 3200 | D46: 0.3142 | E46: =-D46*C46 -> -1005.44 | F46: =-$F$4*C46 -> -1120 | G46: =C46+F46 -> 2080
A47: Stig Persson | B47: 401203-6952 | C47: 12400 | D47: 0.1021 | E47: =-D47*C47 -> -1266.04 | F47: =-$F$4*C47 -> -4340 | G47: =C47+F47 -> 8060
A48: ='Ers Björn 2-14'!B4 -> Björn Norrblom | B48: ='Ers Björn 2-14'!B5 -> 470720-1416 | C48: ='Ers Björn 1-14'!B10+'Ers Björn 2-14'!B10 -> 1300 | D48: 0.1021 | E48: =-D48*C48 -> -132.73 | F48: ='Ers Björn 1-14'!B11+'Ers Björn 2-14'!B11 -> -325 | G48: =C48+F48 -> 975
A51: Summa | C51: =SUM(C44:C50) -> 27500 | E51: =SUM(E44:E50) -> -4461.13 | F51: =SUM(F44:F50) -> -9495 | G51: =SUM(G44:G50) -> 18005
C52: =C44+C47+C48 -> 19700
A54: Skatteredovisning för 2014 | D54: Nr 3 2014 | E54: =E62+F62 -> -6786.9252 | F54: = Redovisat 2014-11-06; inbetalt 2014-11-07
F56: 0.35
A57: Namn | B57: Personnr | C57: Bruttolön/Arvode | D57: Arb g avg % av bruttolön | E57: Ag avg | F57: Prel skatt | G57: Netto utbetalt
A59: Stig Persson | B59: 401203-6952 | C59: ='Ers Stig 3-14'!B10 -> 7905 | D59: 0.1021 | E59: =-D59*C59 -> -807.1005 | F59: ='Ers Stig 3-14'!B11 -> -2766.75 | G59: =C59+F59 -> 5138.25
A60: Stig Persson | B60: 401203-6952 | C60: ='Ers Stig 4-14'!B10+'Ers Stig 4-14'!B14 -> 7107 | D60: 0.1021 | E60: =-D60*C60 -> -725.6247 | F60: ='Ers Stig 4-14'!B11+'Ers Stig 4-14'!B15 -> -2487.45 | G60: =C60+F60 -> 4619.55
A62: Summa | C62: =SUM(C59:C61) -> 15012 | E62: =SUM(E59:E61) -> -1532.7252 | F62: =SUM(F59:F61) -> -5254.2 | G62: =SUM(G59:G61) -> 9757.8
A64: Summa Stig 2014 | C64: =C36+C47+C62 -> 32372 | E64: =E36+E47+E62 -> -3305.1812 | F64: =F36+F47+F62 -> -11330.2
A66: Summa totalt | C66: =C36+C51+C62 -> 47472 | D66: =D36+D51+D62 -> 0 | E66: =E36+E51+E62 -> -6500.2712 | F66: =F36+F51+F62 -> -16485.2

Sheet Skatter 2015
A2: Skatteredovisning för 2013 | D2: Nr 1 | E2: =E13+F13 -> -12377.192 | F2: = Inbetalt 2013-08-19
F4: 0.35
A5: Namn | B5: Personnr | C5: Bruttolön/Arvode | D5: Arb g avg % av bruttolön | E5: Ag avg | F5: Prel skatt | G5: Netto utbetalt
A7: Stig Persson | B7: 401203-6952 | C7: ='Ers Stig 1-13'!B10 -> 9920 | D7: 0.1021 | E7: =(-D7*C7) -> -1012.832 | F7: ='Ers Stig 1-13'!B11 -> -3472 | G7: =C7+F7 -> 6448
A8: Curt Lundquist | B8: 400615-7855 | C8: =Arvoden2013!C7 -> 6000 | D8: 0.1021 | E8: =-(D8*C8)+1 -> -611.6 | F8: =-$F$4*C8 -> -2100 | G8: =C8+F8 -> 3900
A9: Kajsa Björkman | B9: 511110-7867 | C9: =Arvoden2013!C8 -> 4600 | D9: 0.3142 | E9: =-D9*C9 -> -1445.32 | F9: =-$F$4*C9 -> -1610 | G9: =C9+F9 -> 2990
A10: Kjell Rudaues | B10: 490831-0214 | C10: =Arvoden2013!C9 -> 3200 | D10: 0.3142 | E10: =-D10*C10 -> -1005.44 | F10: =-$F$4*C10 -> -1120 | G10: =C10+F10 -> 2080
A13: Summa | C13: =SUM(C7:C12) -> 23720 | E13: =SUM(E7:E12) -> -4075.192 | F13: =SUM(F7:F12) -> -8302 | G13: =SUM(G7:G12) -> 15418
A16: Skatteredovisning för 2013 | D16: Nr 2 | E16: =E21+F21 -> -3642.926 | F16: = Inbetalt 2013-10-14
E17: =E22+F22 -> -3071.9237 | F17: = Inbetalt 2013-11-06
F18: 0.35
A19: Namn | B19: Personnr | C19: Bruttolön/Arvode | D19: Arb g avg % av bruttolön | E19: Ag avg | F19: Prel skatt | G19: Netto utbetalt
A21: Stig Persson | B21: 401203-6952 | C21: ='Ers Stig 2-13'!B10 -> 8060 | D21: 0.1021 | E21: =-D21*C21+1 -> -821.926 | F21: ='Ers Stig 2-13'!B11 -> -2821 | G21: =C21+F21 -> 5239
A22: Stig Persson | B22: 401203-6952 | C22: ='Ers Stig 3-13'!B10+'Ers Stig 3-13'!B14 -> 6797 | D22: 0.1021 | E22: =(-D22*C22)+1 -> -692.9737 | F22: ='Ers Stig 3-13'!B11+'Ers Stig 3-13'!B15 -> -2378.95 | G22: =C22+F22 -> 4418.05
A24: Summa | C24: =SUM(C21:C23) -> 14857 | E24: =SUM(E21:E23) -> -1514.8997 | F24: =SUM(F21:F23) -> -5199.95 | G24: =SUM(G21:G23) -> 9657.05
A28: Skatteredovisning för 2015 | D28: Nr 1 2015 | E28: =E33+F33 -> -2242.416 | F28: = Inbetalt 2015-04-28
F30: 0.35
A31: Namn | B31: Personnr | C31: Bruttolön/Arvode | D31: Arb g avg % av bruttolön | E31: Ag avg | F31: Prel skatt | G31: Netto utbetalt
A33: Stig Persson | B33: 401203-6952 | C33: ='Ers Stig 1-14'!B10 -> 4960 | D33: 0.1021 | E33: =-D33*C33 -> -506.416 | F33: ='Ers Stig 1-14'!B11 -> -1736 | G33: =C33+F33 -> 3224
G34: =C34+F34 -> 0
A36: Summa | C36: =SUM(C33:C35) -> 4960 | E36: =SUM(E33:E35) -> -506.416 | F36: =SUM(F33:F35) -> -1736 | G36: =SUM(G33:G35) -> 3224
A39: Skatteredovisning för 2014 | D39: Nr 2 | E39: =E51+F51 -> -13956.13 | F39: = Redovisat 2014-08-06; Inbetalt 2014-08-12
F41: 0.35
A42: Namn | B42: Personnr | C42: Bruttolön/Arvode | D42: Arb g avg % av bruttolön | E42: Ag avg | F42: Prel skatt | G42: Netto utbetalt
A44: Curt Lundquist | B44: 400615-7855 | C44: =Arvoden2014!C7 -> 6000 | D44: 0.1021 | E44: =-(D44*C44)+1 -> -611.6 | F44: =-$F$4*C44 -> -2100 | G44: =C44+F44 -> 3900
A45: Kajsa Björkman | B45: 511110-7867 | C45: =Arvoden2014!C8 -> 4600 | D45: 0.3142 | E45: =-D45*C45 -> -1445.32 | F45: =-$F$4*C45 -> -1610 | G45: =C45+F45 -> 2990
A46: Kjell Rudaues | B46: 490831-0214 | C46: =Arvoden2014!C9 -> 3200 | D46: 0.3142 | E46: =-D46*C46 -> -1005.44 | F46: =-$F$4*C46 -> -1120 | G46: =C46+F46 -> 2080
A47: Stig Persson | B47: 401203-6952 | C47: 12400 | D47: 0.1021 | E47: =-D47*C47 -> -1266.04 | F47: =-$F$4*C47 -> -4340 | G47: =C47+F47 -> 8060
A48: ='Ers Björn 2-14'!B4 -> Björn Norrblom | B48: ='Ers Björn 2-14'!B5 -> 470720-1416 | C48: ='Ers Björn 1-14'!B10+'Ers Björn 2-14'!B10 -> 1300 | D48: 0.1021 | E48: =-D48*C48 -> -132.73 | F48: ='Ers Björn 1-14'!B11+'Ers Björn 2-14'!B11 -> -325 | G48: =C48+F48 -> 975
A51: Summa | C51: =SUM(C44:C50) -> 27500 | E51: =SUM(E44:E50) -> -4461.13 | F51: =SUM(F44:F50) -> -9495 | G51: =SUM(G44:G50) -> 18005
C52: =C44+C47+C48 -> 19700
A54: Skatteredovisning för 2014 | D54: Nr 3 2014 | E54: =E62+F62 -> -6786.9252 | F54: = Redovisat 2014-11-06; inbetalt 2014-11-07
F56: 0.35
A57: Namn | B57: Personnr | C57: Bruttolön/Arvode | D57: Arb g avg % av bruttolön | E57: Ag avg | F57: Prel skatt | G57: Netto utbetalt
A59: Stig Persson | B59: 401203-6952 | C59: ='Ers Stig 3-14'!B10 -> 7905 | D59: 0.1021 | E59: =-D59*C59 -> -807.1005 | F59: ='Ers Stig 3-14'!B11 -> -2766.75 | G59: =C59+F59 -> 5138.25
A60: Stig Persson | B60: 401203-6952 | C60: ='Ers Stig 4-14'!B10+'Ers Stig 4-14'!B14 -> 7107 | D60: 0.1021 | E60: =-D60*C60 -> -725.6247 | F60: ='Ers Stig 4-14'!B11+'Ers Stig 4-14'!B15 -> -2487.45 | G60: =C60+F60 -> 4619.55
A62: Summa | C62: =SUM(C59:C61) -> 15012 | E62: =SUM(E59:E61) -> -1532.7252 | F62: =SUM(F59:F61) -> -5254.2 | G62: =SUM(G59:G61) -> 9757.8
A64: Summa Stig 2014 | C64: =C36+C47+C62 -> 32372 | E64: =E36+E47+E62 -> -3305.1812 | F64: =F36+F47+F62 -> -11330.2
A66: Summa totalt | C66: =C36+C51+C62 -> 47472 | D66: =D36+D51+D62 -> 0 | E66: =E36+E51+E62 -> -6500.2712 | F66: =F36+F51+F62 -> -16485.2

Sheet Pivot-medlemsavg
E1: 41876
A3: Radetiketter | B3: Antal av Betalt | C3: Summa av Betalt | D3: Summa av Ej betalt
A4: Anemonvägen | B4: 17 | C4: 25500 | D4: 0
A5: Blåklintvägen | B5: 4 | C5: 6000 | D5: 0
A6: Blåklockevägen | B6: 8 | C6: 12000 | D6: 0
A7: Dahliavägen | B7: 12 | C7: 18000 | D7: 0
A8: Harsyrevägen | B8: 4 | C8: 6000 | D8: 0
A9: Irisvägen | B9: 2 | C9: 3000 | D9: 0
A10: Liljekonvaljvägen | B10: 4 | C10: 6000 | D10: 0
A11: Lupinvägen | B11: 12 | C11: 18000.6 | D11: 0
A12: Mandelblomsvägen | B12: 13 | C12: 19500 | D12: 0
A13: Skvadronvägen | B13: 2 | C13: 1750 | D13: 0
A14: Syrenblomsvägen | B14: 4 | C14: 6000 | D14: 0
A15: Timotejvägen | B15: 12 | C15: 18000 | D15: 0
... A20: Totalsumma | B20: 117 | C20: 174250.6 | D20: 0
D21: =13 -> 13 | E21: =Medlemsavgifter!F124+Medlemsavgifter!I124 -> 174250.6 | F21: =E21+F25 -> 174100.6
A24: Dessa har betalat in för lite/för mycket för 2012-2013:
A25: 13 | B25: Anemonvägen | C25: 6:66 | D25: Göran Sand | E25: 1700 | F25: =-150 -> -150
A26: 3 | B26: Vårlöksvägen | C26: 6:88 | D26: Benny Billfors | E26: 1900 | F26: =50 -> 50
A27: 3B | B27: Mandelblomsv | C27: 2:1 | D27: Philip Schwab | E27: 1800 | F27: =-50 -> -50
F28: =SUM(F25:F27) -> -150

Sheet Medlemsavgifter
A3: Medlemsavgifter för 2013-2014
A6: Nr | B6: Vägnamn förr | C6: Nytt vägnamn | D6: Fastighetsbeteckn | E6: Namn | F6: Betalt | G6: Inbetalt datum | H6: Ver nr | I6: Ej betalt | J6: Kommentar
A7: 1 | B7: Badvägen | C7: Blåklintvägen | D7: 6:73 | E7: Mary Erjestedt | F7: 1500 | G7: 41880 | H7: 45 | I7: =IF(F7<=100,1500,0) -> 0
A8: 3 | B8: Badvägen | C8: Blåklintvägen | D8: 6:72 | E8: Henry o Greta Bäckström | F8: 1500 | G8: 41873 | H8: 39 | I8: =IF(F8<=100,1500,0) -> 0
A9: 4 | B9: Badvägen | C9: Blåklintvägen | D9: 6:70 | E9: Per-Olof Åkerstedt | F9: 1500 | G9: 41878 | H9: 42 | I9: =IF(F9<=100,1500,0) -> 0
A10: 5 | B10: Badvägen | C10: Blåklintvägen | D10: 6:71 | E10: Torbjörn Lindgren | F10: 1500 | G10: 41841 | H10: 23 | I10: =IF(F10<=100,1500,0) -> 0
A11: 1 | B11: Björkvägen | C11: Blåklockevägen | D11: 6:56 | E11: Gunilla/Conny Fredriksson | F11: 1500 | G11: 41880 | H11: 45 | I11: =IF(F11<=100,1500,0) -> 0
A12: 4 | B12: Björkvägen | C12: Blåklockevägen | D12: 6:44 | E12: Mats Berglöf | F12: 1500 | G12: 41877 | H12: 41 | I12: =IF(F12<=100,1500,0) -> 0
A13: 5 | B13: Björkvägen | C13: Blåklockevägen | D13: 6:54 | E13: Helene Berglöf | F13: 1500 | G13: 41877 | H13: 41 | I13: =IF(F13<=100,1500,0) -> 0
A14: 6 | B14: Björkvägen | C14: Blåklockevägen | D14: 6:47 | E14: Åke Strandberg | F14: 1500 | G14: 41883 | H14: 49 | I14: =IF(F14<=100,1500,0) -> 0
A15: 7 | B15: Björkvägen | C15: Blåklockevägen | D15: 6:53 | E15: Fatou Vikström | F15: 1500 | G15: 41849 | H15: 29 | I15: =IF(F15<=100,1500,0) -> 0 | J15: 4 syskon ägare
A16: 9 | B16: Björkvägen | C16: Blåklockevägen | D16: 6:52 | E16: Torbjörn Killander | F16: 1500 | G16: 41851 | H16: 31 | I16: =IF(F16<=100,1500,0) -> 0
A17: 11 | B17: Björkvägen | C17: Blåklockevägen | D17: 6:51 | E17: Torbjörn Killander | F17: 1500 | G17: 41851 | H17: 31 | I17: =IF(F17<=100,1500,0) -> 0
A18: 13 | B18: Björkvägen | C18: Blåklockevägen | D18: 6:50 | E18: Ann-Marie o Bengt Roll | F18: 1500 | G18: 41880 | H18: 45 | I18: =IF(F18<=100,1500,0) -> 0
A19: 8 | B19: Dragonvägen | C19: Skvadronvägen | D19: 6:12 | E19: Margot Svanberg | F19: 250 | G19: 41880 | H19: 45 | I19: =IF(F19<=100,1500,0) -> 0 | J19: För 2 mån.
A20: 35 | B20: Dragonvägen | C20: Skvadronvägen | D20: 6:83 | E20: Ulrika o Renato Rios | F20: 1500 | G20: 41880 | H20: 45 | I20: =IF(F20<=100,1500,0) -> 0
A21: 1 | B21: Eklundavägen | C21: Mandelblomsvägen | D21: 3:7 | E21: Anita o Gustaf Berencreutz | F21: 1500 | G21: 41850 | H21: 30 | I21: =IF(F21<=100,1500,0) -> 0
A22: 2 | B22: Eklundavägen | C22: Mandelblomsvägen | D22: 6:82 | E22: Ancha Blom | F22: 1500 | G22: 41878 | H22: 42 | I22: =IF(F22<=100,1500,0) -> 0
A23: 3 | B23: Eklundavägen | C23: Mandelblomsvägen | D23: 6:271 | E23: Jerry o Ann-Britt Ekner | F23: 1500 | G23: 41880 | H23: 45 | I23: =IF(F23<=100,1500,0) -> 0
A24: 4 | B24: Eklundavägen | C24: Mandelblomsvägen | D24: 6:80 | E24: Hans Eliasson | F24: 1500 | G24: 41878 | H24: 42 | I24: =IF(F24<=100,1500,0) -> 0
A25: 5 | B25: Eklundavägen | C25: Mandelblomsvägen | D25: 6:270 | E25: Monica Nilsson o Ingemar Ström | F25: 1500 | G25: 41880 | H25: 45 | I25: =IF(F25<=100,1500,0) -> 0
A26: 6 | B26: Eklundavägen | C26: Mandelblomsvägen | D26: 6:79 | E26: Kjell Rudaeus | F26: 1500 | G26: 41877 | H26: 41 | I26: =IF(F26<=100,1500,0) -> 0
A27: 8 | B27: Eklundavägen | C27: Mandelblomsvägen | D27: 6:77 | E27: Roger o Eva Janving | F27: 1500 | G27: 41841 | H27: 23 | I27: =IF(F27<=100,1500,0) -> 0 | J27: Tidigare Jens Wigen
A28: 10 | B28: Eklundavägen | C28: Mandelblomsvägen | D28: 6:105 | E28: Lorna Elofsson | F28: 1500 | G28: 41879 | H28: 45 | I28: =IF(F28<=100,1500,0) -> 0
A29: 12 | B29: Eklundavägen | C29: Mandelblomsvägen | D29: 6:104 | E29: Jack Nyström | F29: 1500 | G29: 41883 | H29: 49 | I29: =IF(F29<=100,1500,0) -> 0
A30: 14 | B30: Eklundavägen | C30: Mandelblomsvägen | D30: 6:102 | E30: Anette o Iska Karevaara | F30: 1500 | G30: 41880 | H30: 45 | I30: =IF(F30<=100,1500,0) -> 0
A31: 16 | B31: Eklundavägen | C31: Mandelblomsvägen | D31: 6:120 | E31: Martin o Sofia Neselius | F31: 1500 | G31: 41879 | H31: 45 | I31: =IF(F31<=100,1500,0) -> 0
A32: 18 | B32: Eklundavägen | C32: Mandelblomsvägen | D32: 6:119 | E32: Carina Glas o Anders Krantz | F32: 1500 | G32: 41880 | H32: 45 | I32: =IF(F32<=100,1500,0) -> 0
A33: 3B | B33: Eklundavägen | C33: Mandelblomsvägen | D33: 2:1 | E33: Anders Berndtsson o Karin Fröjd | F33: 1500 | G33: 41927 | H33: 60 | I33: =IF(F33<=100,1500,0) -> 0 | J33: Tidigare Philip Schwab
A34: 1 | B34: Ekvägen | C34: Timotejvägen | D34: 6:98 | E34: Therese Edvall o Mikael Björkman | F34: 1500 | G34: 41890 | H34: 54 | I34: =IF(F34<=100,1500,0) -> 0
A35: 2 | B35: Ekvägen | C35: Timotejvägen | D35: 6:100 | E35: Marjatta Seluska | F35: 1500 | G35: 41876 | H35: 40 | I35: =IF(F35<=100,1500,0) -> 0
A36: 3 | B36: Ekvägen | C36: Timotejvägen | D36: 6:95 | E36: Barbro Leder Johansson | F36: 1500 | G36: 41848 | H36: 27 | I36: =IF(F36<=100,1500,0) -> 0
A37: 4 | B37: Ekvägen | C37: Timotejvägen | D37: 6:99 | E37: Joseph Markström-Williamsson | F37: 1500 | G37: 41879 | H37: 45 | I37: =IF(F37<=100,1500,0) -> 0
A38: 5 | B38: Ekvägen | C38: Timotejvägen | D38: 6:93 | E38: Yrjö Pollari | F38: 1500 | G38: 41842 | H38: 39 | I38: =IF(F38<=100,1500,0) -> 0
A39: 6 | B39: Ekvägen | C39: Timotejvägen | D39: 6:118 | E39: Helene Karlsson | F39: 1500 | G39: 41849 | H39: 29 | I39: =IF(F39<=100,1500,0) -> 0
A40: 7 | B40: Ekvägen | C40: Timotejvägen | D40: 6:91 | E40: Glenn Andersson | F40: 1500 | G40: 41843 | H40: 24 | I40: =IF(F40<=100,1500,0) -> 0
A41: 8 | B41: Ekvägen | C41: Timotejvägen | D41: 6:117 | E41: Eivor Tillborg | F41: 1500 | G41: 41849 | H41: 29 | I41: =IF(F41<=100,1500,0) -> 0
A42: 9 | B42: Ekvägen | C42: Timotejvägen | D42: 6:115 | E42: Sven-Gunnar Andersson | F42: 1500 | G42: 41843 | H42: 24 | I42: =IF(F42<=100,1500,0) -> 0
A43: 10 | B43: Ekvägen | C43: Timotejvägen | D43: 6:116 | E43: Rickard o Maria Rosén | F43: 1500 | G43: 41850 | H43: 30 | I43: =IF(F43<=100,1500,0) -> 0
A44: 11 | B44: Ekvägen | C44: Timotejvägen | D44: 6:114 | E44: Rut Resare | F44: 1500 | G44: 41845 | H44: 26 | I44: =IF(F44<=100,1500,0) -> 0
A45: 13 | B45: Ekvägen | C45: Timotejvägen | D45: 6:112 | E45: Rigmor o Niklas Schröder | F45: 1500 | G45: 41880 | H45: 45 | I45: =IF(F45<=100,1500,0) -> 0
... A48: 4 | B48: Hagavägen | C48: Lupinvägen | D48: 6:03 | E48: Lillemor o Peter Samsoie | F48: 1500 | G48: 41877 | H48: 41 | I48: =IF(F48<=100,1500,0) -> 0
A49: 5 | B49: Hagavägen | C49: Lupinvägen | D49: 6:27 | E49: Lilian Jonsson | F49: 1500 | G49: 41845 | H49: 26 | I49: =IF(F49<=100,1500,0) -> 0 | J49: Tidigare Pernilla Ekestolpe
A50: 6 | B50: Hagavägen | C50: Lupinvägen | D50: 6:16 | E50: Kristina Lindquist Carlsson | F50: 1500 | G50: 41880 | H50: 45 | I50: =IF(F50<=100,1500,0) -> 0
A51: 7 | B51: Hagavägen | C51: Lupinvägen | D51: 6:26 | E51: Inger Ekstrand | F51: 1500 | G51: 41877 | H51: 41 | I51: =IF(F51<=100,1500,0) -> 0
A52: 8 | B52: Hagavägen | C52: Lupinvägen | D52: 6:17 | E52: Herman Lundell | F52: 1500 | G52: 41848 | H52: 27 | I52: =IF(F52<=100,1500,0) -> 0
A53: 10 | B53: Hagavägen | C53: Lupinvägen | D53: 6:18 | E53: Madeleine Lundberg | F53: 1500 | G53: 41878 | H53: 42 | I53: =IF(F53<=100,1500,0) -> 0 | J53: Linus Svedbjörk?
A54: 13 | B54: Hagavägen | C54: Lupinvägen | D54: 6:19 | E54: Christer Andersson | F54: 1500 | G54: 41880 | H54: 45 | I54: =IF(F54<=100,1500,0) -> 0
A55: 15 | B55: Hagavägen | C55: Lupinvägen | D55: 6:2 | E55: Igor Donkervoort/Jane Schultzberg | F55: 1500 | G55: 41877 | H55: 41 | I55: =IF(F55<=100,1500,0) -> 0
A56: 17 | B56: Hagavägen | C56: Lupinvägen | D56: 6:1 | E56: Kicki o Leif Hassa Jansson | F56: 1500 | G56: 41883 | H56: 49 | I56: =IF(F56<=100,1500,0) -> 0
A57: 2b | B57: Hallonvägen | C57: Lupinvägen | D57: 6:14 | E57: Irene Lindström | F57: 1500.6 | G57: 41848 | H57: 27 | I57: =IF(F57<=100,1500,0) -> 0
A58: 1 | B58: Harvägen | C58: Harsyrevägen | D58: 6:25 | E58: May Markskog | F58: 1500 | G58: 41880 | H58: 45 | I58: =IF(F58<=100,1500,0) -> 0
A59: 2 | B59: Harvägen | C59: Harsyrevägen | D59: 6:20 | E59: Barbro Franzén | F59: 1500 | G59: 41877 | H59: 41 | I59: =IF(F59<=100,1500,0) -> 0
A60: 3 | B60: Harvägen | C60: Harsyrevägen | D60: 6:24 | E60: Anders Meijer | F60: 1500 | G60: 41844 | H60: 25 | I60: =IF(F60<=100,1500,0) -> 0
A61: 4 | B61: Harvägen | C61: Harsyrevägen | D61: 6:21 | E61: Irene Mejerhed | F61: 1500 | G61: 41878 | H61: 42 | I61: =IF(F61<=100,1500,0) -> 0
A62: 1 | B62: Ringvägen | C62: Dahliavägen | D62: 6:84 | E62: Maria Sloth | F62: 1500 | G62: 41884 | H62: 50 | I62: =IF(F62<=100,1500,0) -> 0
A63: 2 | B63: Ringvägen | C63: Dahliavägen | D63: 6:89 | E63: Rose Marie Köhler | F63: 1500 | G63: 41880 | H63: 45 | I63: =IF(F63<=100,1500,0) -> 0
A64: 3 | B64: Ringvägen | C64: Dahliavägen | D64: 6:81 | E64: Catarina Wahlgren | F64: 1500 | G64: 41852 | H64: 32 | I64: =IF(F64<=100,1500,0) -> 0
A65: 7 | B65: Ringvägen | C65: Dahliavägen | D65: 6:78 | E65: Åke o Inger Grönberg | F65: 1500 | G65: 41880 | H65: 45 | I65: =IF(F65<=100,1500,0) -> 0
A66: 8 | B66: Ringvägen | C66: Dahliavägen | D66: 6:86 | E66: Eva Karlsson | F66: 1500 | G66: 41880 | H66: 45 | I66: =IF(F66<=100,1500,0) -> 0
A67: 9 | B67: Ringvägen | C67: Dahliavägen | D67: 6:106 | E67: Ingrid Jonasson | F67: 1500 | G67: 41880 | H67: 45 | I67: =IF(F67<=100,1500,0) -> 0
A68: 10 | B68: Ringvägen | C68: Dahliavägen | D68: 6:85 | E68: Peter Malmström/Lotta Angsell | F68: 1500 | G68: 41876 | H68: 40 | I68: =IF(F68<=100,1500,0) -> 0
A69: 11 | B69: Ringvägen | C69: Dahliavägen | D69: 6:103 | E69: Curt Lundquist | F69: 1500 | G69: 41890 | H69: 54 | I69: =IF(F69<=100,1500,0) -> 0
... A84: 12 | B84: Sjövägen | C84: Anemonvägen | D84: 6:55 | E84: Daniel o Therese Wiberg | F84: 1500 | G84: 41880 | H84: 45 | I84: =IF(F84<=100,1500,0) -> 0
A85: 13 | B85: Sjövägen | C85: Anemonvägen | D85: 6:66 | E85: Göran Sand | F85: 1500 | G85: 41789 | H85: 8 | I85: =IF(F85<=100,1500,0) -> 0 | J85: Betalat 150 kr för lite 2012-2013
A86: 14 | B86: Sjövägen | C86: Anemonvägen | D86: 6:57 | E86: Birgitta o Tom Wärmé | F86: 1500 | G86: 41876 | H86: 40 | I86: =IF(F86<=100,1500,0) -> 0
A87: 16 | B87: Sjövägen | C87: Anemonvägen | D87: 6:58 | E87: Lena Heitman/Rolf Friberg | F87: 1500 | G87: 41851 | H87: 31 | I87: =IF(F87<=100,1500,0) -> 0
A88: 18 | B88: Sjövägen | C88: Anemonvägen | D88: 6:59 | E88: Ulla Haglund | F88: 1500 | G88: 41878 | H88: 42 | I88: =IF(F88<=100,1500,0) -> 0 | J88: Nina Kilander
A89: 20 | B89: Sjövägen | C89: Anemonvägen | D89: 6:64 | E89: Hasan Ali o Hasina Akther | F89: 1500 | G89: 41848 | H89: 27 | I89: =IF(F89<=100,1500,0) -> 0
A90: 22 | B90: Sjövägen | C90: Anemonvägen | D90: 6:65 | E90: Robert Nyberg | F90: 1500 | G90: 41841 | H90: 23 | I90: =IF(F90<=100,1500,0) -> 0
A91: 1 | B91: Syrenvägen | C91: Syrenblomsvägen | D91: 6:110 | E91: Ulla Sandberg | F91: 1500 | G91: 41890 | H91: 54 | I91: =IF(F91<=100,1500,0) -> 0
A92: 3 | B92: Syrenvägen | C92: Syrenblomsvägen | D92: 6:108 | E92: Marianne Olsson | F92: 1500 | G92: 41876 | H92: 40 | I92: =IF(F92<=100,1500,0) -> 0
A93: 4 | B93: Syrenvägen | C93: Syrenblomsvägen | D93: 6:113 | E93: Gösta Heljesten | F93: 1500 | G93: 41852 | H93: 32 | I93: =IF(F93<=100,1500,0) -> 0
A94: 6 | B94: Syrenvägen | C94: Syrenblomsvägen | D94: 6:111 | E94: Björn o Ingalill Norrblom | F94: 1500 | G94: 41880 | H94: 45 | I94: =IF(F94<=100,1500,0) -> 0
A95: 3 | B95: Trollvägen | C95: Liljekonvaljvägen | D95: 6:63 | E95: Lena o Sune Danielsson | F95: 1500 | G95: 41879 | H95: 45 | I95: =IF(F95<=100,1500,0) -> 0
A96: 4 | B96: Trollvägen | C96: Liljekonvaljvägen | D96: 6:60 | E96: Rose-Marie Persson | F96: 1500 | G96: 41841 | H96: 23 | I96: =IF(F96<=100,1500,0) -> 0
A97: 6 | B97: Trollvägen | C97: Liljekonvaljvägen | D97: 6:61 | E97: Mikael Rydberg | F97: 1500 | G97: 41912 | H97: 57 | I97: =IF(F97<=100,1500,0) -> 0
A98: 8 | B98: Trollvägen | C98: Liljekonvaljvägen | D98: 6:62 | E98: Niklas Haglund | F98: 1500 | G98: 41845 | H98: 26 | I98: =IF(F98<=100,1500,0) -> 0
B99: Vitsjö Gård | C99: Vitsjö Gård | D99: 5:9 | E99: Margareta Åsberg | F99: 1500 | G99: 41851 | H99: 31 | I99: =IF(F99<=100,1500,0) -> 0
A100: 2 | B100: Vårvägen | C100: Vårlöksvägen | D100: 6:97 | E100: Olle o Ingrid Moström | F100: 1500 | G100: 41848 | H100: 27 | I100: =IF(F100<=100,1500,0) -> 0
A101: 3 | B101: Vårvägen | C101: Vårlöksvägen | D101: 6:88 | E101: Per Söderberg | F101: 1500 | G101: 41848 | H101: 27 | I101: =IF(F101<=100,1500,0) -> 0
A102: 4 | B102: Vårvägen | C102: Vårlöksvägen | D102: 6:96 | E102: Lars-Göran Persson | F102: 1500 | G102: 41841 | H102: 23 | I102: =IF(F102<=100,1500,0) -> 0
A103: 5 | B103: Vårvägen | C103: Vårlöksvägen | D103: 6:87 | E103: Britt Arleheim | F103: 1500 | G103: 41880 | H103: 45 | I103: =IF(F103<=100,1500,0) -> 0
A104: 6 | B104: Vårvägen | C104: Vårlöksvägen | D104: 6:94 | E104: Carina o Lars-Eric Ekdahl | F104: 1500 | G104: 41880 | H104: 45 | I104: =IF(F104<=100,1500,0) -> 0
A105: 8 | B105: Vårvägen | C105: Vårlöksvägen | D105: 6:92 | E105: Kjell Skanning | F105: 1500 | G105: 41859 | H105: 35 | I105: =IF(F105<=100,1500,0) -> 0
A106: 10 | B106: Vårvägen | C106: Vårlöksvägen | D106: 6:90 | E106: Anna o Gustav Jakobsson | F106: 1500 | G106: 41859 | H106: 38 | I106: =IF(F106<=100,1500,0) -> 0
A107: 4 | B107: Åkervägen | C107: Åkerviolvägen | D107: 6:29 | E107: Marietta Jurefors | F107: 1500 | G107: 41843 | H107: 24 | I107: =IF(F107<=100,1500,0) -> 0
A108: 6 | B108: Åkervägen | C108: Åkerviolvägen | D108: 6:30 | E108: Mia Sköldén | F108: 1500 | G108: 41880 | H108: 45 | I108: =IF(F108<=100,1500,0) -> 0
A109: 8 | B109: Åkervägen | C109: Åkerviolvägen | D109: 6:31 | E109: Björn o Stina Falkenström | F109: 1500 | G109: 41852 | H109: 32 | I109: =IF(F109<=100,1500,0) -> 0
A110: 10 | B110: Åkervägen | C110: Åkerviolvägen | D110: 6:32 | E110: Robert Staflin | F110: 1500 | G110: 41890 | H110: 54 | I110: =IF(F110<=100,1500,0) -> 0 | J110: Tidigare Anders nordenskiöld
A111: 12 | B111: Åkervägen | C111: Åkerviolvägen | D111: 6:33 | E111: John Mikael Wilhelmsson | F111: 1500 | G111: 41880 | H111: 45 | I111: =IF(F111<=100,1500,0) -> 0
A112: 14 | B112: Åkervägen | C112: Åkerviolvägen | D112: 6:34 | E112: Peter Johansson | F112: 1500 | G112: 41880 | H112: 45 | I112: =IF(F112<=100,1500,0) -> 0
A113: 2 | B113: Åvägen | C113: Irisvägen | D113: 6:22 | E113: Ingrid Staflin | F113: 1500 | G113: 41837 | H113: 22 | I113: =IF(F113<=100,1500,0) -> 0 | J113: Tidigare AnnCharlotte Blom
A114: 4 | B114: Åvägen | C114: Irisvägen | D114: 6:23 | E114: Tina Nilsson/Jan Sjödahl | F114: 1500 | G114: 41848 | H114: 27 | I114: =IF(F114<=100,1500,0) -> 0 | J114: Gift sig? Jan Johansson?
A115: 3 | B115: Ängsvägen | C115: Ängsklockevägen | D115: 6:38 | E115: Ann-Christin Edblad | F115: 1500 | G115: 41880 | H115: 45 | I115: =IF(F115<=100,1500,0) -> 0
A116: 4 | B116: Ängsvägen | C116: Ängsklockevägen | D116: 6:28 | E116: Tore Boström | F116: 1500 | G116: 41880 | H116: 45 | I116: =IF(F116<=100,1500,0) -> 0
A117: 5 | B117: Ängsvägen | C117: Ängsklockevägen | D117: 6:37 | E117: Ulla Björkegren | F117: 1500 | G117: 41852 | H117: 32 | I117: =IF(F117<=100,1500,0) -> 0
A118: 7 | B118: Ängsvägen | C118: Ängsklockevägen | D118: 6:36 | E118: Lailaa Jonsson | F118: 1500 | G118: 41848 | H118: 27 | I118: =IF(F118<=100,1500,0) -> 0
A119: 9 | B119: Ängsvägen | C119: Ängsklockevägen | D119: 6:35 | E119: Bo o Annica Rönnqvist | F119: 1500 | G119: 41880 | H119: 45 | I119: =IF(F119<=100,1500,0) -> 0
A120: 11 | B120: Ängsvägen | C120: Ängsklockevägen | D120: 6:45 | E120: Annika och Roger Örneholm | F120: 1500 | G120: 41890 | H120: 54 | I120: =IF(F120<=100,1500,0) -> 0 | J120: Tidigare Harriet Björklund
...

Sheet Arvoden 2012
B4: ARVODEN, Skatt o Arbetsgivaravgift samt reseersättning Utbetalningsunderlag 2011-2012. Utbetalas på årsmöte 2012.
B6: Namn | C6: ARVODE Brutto | D6: Skatt 35 % | E6: Arvode netto efter skatt | F6: Arbetsgivaravgift född före 1945 10,21 %, senare än 1945, 29,71% | H6: Antal möten from juni 2011 tom maj 2012 | I6: Rese- ersättning 200:-/möte KRONOR | J6: Ersättning för lokal och förtäring vid mötena | K6: Utbetalning Reseerättning + Arvode på Årsmötet 2011 KRONOR
B7: Curt Lundqvist | C7: 6000 | D7: =0.35*C7 -> 2100 | E7: =C7-D7 -> 3900 | F7: 0.1021 | G7: =C7*F7 -> 612.6 | H7: 4 | I7: =H7*200 -> 800 | K7: =E7+I7+J7 -> 4700 | L7: Betalt 2012-07-16
B8: Kajsa Björkman | C8: 4600 | D8: =0.35*C8 -> 1610 | E8: =C8-D8 -> 2990 | F8: 0.3142 | G8: =C8*F8 -> 1445.32 | H8: 4 | I8: =H8*200 -> 800 | J8: 200 | K8: =E8+I8+J8 -> 3990 | L8: Betalt 2012-07-16
B9: Kjell Rudaues | C9: 3200 | D9: =0.35*C9 -> 1120 | E9: =C9-D9 -> 2080 | F9: 0.3142 | G9: =C9*F9 -> 1005.44 | H9: 4 | I9: =H9*200 -> 800 | K9: =E9+I9+J9 -> 2880 | L9: Betalt 2012-07-05
B10: Rolf Elofsson | C10: 0 | E10: =C10-D10 -> 0 | G10: =C10*F10 -> 0 | H10: 4 | I10: =H10*200 -> 800 | K10: =E10+I10+J10 -> 800 | L10: Betalt 2012-06-18
B11: Ann-Britt Ekner | C11: 0 | E11: =C11-D11 -> 0 | G11: =C11*F11 -> 0 | H11: 3 | I11: =H11*200 -> 600 | J11: 200 | K11: =E11+I11+J11 -> 800 | L11: Betalt 2012-06-18
B12: Robert Nyberg | C12: 0 | E12: =C12-D12 -> 0 | G12: =C12*F12 -> 0 | H12: 4 | I12: =H12*200 -> 800 | K12: =E12+I12+J12 -> 800 | L12: Betalt 2012-06-18
B13: Jani Villanen | C13: 0 | E13: =C13-D13 -> 0 | G13: =C13*F13 -> 0 | H13: 1 | I13: =H13*200 -> 200 | K13: =E13+I13+J13 -> 200
B14: Ros-Marie Köhler | C14: 0 | E14: =C14-D14 -> 0 | G14: =C14*F14 -> 0 | H14: 4 | I14: =H14*200 -> 800 | J14: 200 | K14: =E14+I14+J14 -> 1000 | L14: Betalt 2012-06-18
B15: Revisorer | C15: 200 | D15: 0 | E15: =C15-D15 -> 200 | G15: =C15*F15 -> 0 | H15: 0 | I15: =F15 -> 0 | K15: =E15+I15+J15 -> 200 | L15: En aktiv revisor; fick betalt 2012-05-26
B16: Summa | C16: =SUM(C7:C15) -> 14000 | D16: =SUM(D7:D15) -> 4830 | E16: =SUM(E7:E15) -> 9170 | G16: =SUM(G7:G15) -> 3063.36 | H16: =SUM(H7:H15) -> 28 | I16: =H16*200 -> 5600 | J16: =SUM(J7:J15) -> 600 | K16: =SUM(K7:K15) -> 15370
B20: SUMMERING | C20: 2011-2012
B21: Styrelsearvode+ Rev | C21: =SUM(C7:C15) -> 14000 | D21: Netto | E21: =SUM(E6:E15) -> 9170
B22: Stig timlön | C22: 310 | D22: Netto | E22: 201.5
B23: Total bet skatt | C23: =D16 -> 4830
B24: Total reseersättning | C24: =I16+J16 -> 6200
B25: Arb givaravgift | C25: =D16 -> 4830
B26: Arbetsgivaravgift | C26: =G16 -> 3063.36
B27: Utbetalas juni | C27: =E21+C24 -> 15370
B28: Betalas i juli; arb avg | C28: =C26 -> 3063.36

Sheet Arvoden2013
B4: ARVODEN, Skatt o Arbetsgivaravgift samt reseersättning Utbetalningsunderlag 2012-2013. Utbetalas på årsmöte 2013.
B6: Namn | C6: ARVODE Brutto | D6: Skatt 35 % | E6: Arvode netto efter skatt | F6: Arbetsgivaravgift född före 1945 10,21 %, senare än 1945, 29,71% | H6: Antal möten from juni 2012 tom maj 2013 | I6: Rese- ersättning 200:-/möte KRONOR | J6: Ersättning för lokal och förtäring vid mötena | K6: Utbetalning Reseerättning + Arvode på Årsmötet 2012 KRONOR
B7: Curt Lundqvist | C7: 6000 | D7: =0.35*C7 -> 2100 | E7: =C7-D7 -> 3900 | F7: 0.1021 | G7: =C7*F7 -> 612.6 | H7: 5 | I7: =H7*200 -> 1000 | K7: =E7+I7+J7 -> 4900 | L7: Utbet 2013-06-27
B8: Kajsa Björkman | C8: 4600 | D8: =0.35*C8 -> 1610 | E8: =C8-D8 -> 2990 | F8: 0.3142 | G8: =C8*F8 -> 1445.32 | H8: 5 | I8: =H8*200 -> 1000 | K8: =E8+I8+J8 -> 3990 | L8: Utbet 2013-07-04
B9: Kjell Rudaues | C9: 3200 | D9: =0.35*C9 -> 1120 | E9: =C9-D9 -> 2080 | F9: 0.3142 | G9: =C9*F9 -> 1005.44 | H9: 5 | I9: =H9*200 -> 1000 | J9: 200 | K9: =E9+I9+J9 -> 3280 | L9: Utbet 2013-06-19
B10: Björn Norrblom | C10: 0 | E10: =C10-D10 -> 0 | G10: =C10*F10 -> 0 | H10: 4 | I10: =H10*200 -> 800 | J10: 200 | K10: =E10+I10+J10 -> 1000 | L10: Utbet 2013-06-19
B11: Ann-Britt Ekner | C11: 0 | E11: =C11-D11 -> 0 | G11: =C11*F11 -> 0 | H11: 3 | I11: =H11*200 -> 600 | K11: =E11+I11+J11 -> 600 | L11: Utbet 2013-06-19
B12: Robert Nyberg | C12: 0 | E12: =C12-D12 -> 0 | G12: =C12*F12 -> 0 | H12: 4 | I12: =H12*200 -> 800 | J12: 200 | K12: =E12+I12+J12 -> 1000 | L12: Utbet 2013-06-19
B13: Jani Villanen | C13: 0 | E13: =C13-D13 -> 0 | G13: =C13*F13 -> 0 | H13: 1 | I13: =H13*200 -> 200 | K13: =E13+I13+J13 -> 200
B14: Ros-Marie Köhler | C14: 0 | E14: =C14-D14 -> 0 | G14: =C14*F14 -> 0 | H14: 4 | I14: =H14*200 -> 800 | K14: =E14+I14+J14 -> 800 | L14: Utbet 2013-06-19
B15: Rolf Elofsson | C15: 0 | E15: =C15-D15 -> 0 | G15: =C15*F15 -> 0 | H15: 1 | I15: =H15*200 -> 200 | K15: =E15+I15+J15 -> 200 | L15: Utbet 2013-06-19
B16: Revisorer | C16: 400 | D16: 0 | E16: =C16-D16 -> 400 | G16: =C16*F16 -> 0 | H16: 0 | I16: =F16 -> 0 | K16: =E16+I16+J16 -> 400 | L16: Utbet 2013-05-19
B17: Summa | C17: =SUM(C7:C16) -> 14200 | D17: =SUM(D7:D16) -> 4830 | E17: =SUM(E7:E16) -> 9370 | G17: =SUM(G7:G16) -> 3063.36 | H17: =SUM(H7:H16) -> 32 | I17: =H17*200 -> 6400 | J17: =SUM(J7:J16) -> 600 | K17: =SUM(K7:K16) -> 16370
B21: SUMMERING | C21: 2012-2013
B22: Styrelsearvode+ Rev | C22: =SUM(C7:C16) -> 14200 | D22: Netto | E22: =SUM(E6:E16) -> 9370
B23: Stig timlön | C23: 310 | D23: Netto | E23: 201.5
B24: Total prel skatt | C24: =D17 -> 4830
B25: Total reseersättning | C25: =I17+J17 -> 7000
B26: Arb givaravgift | C26: =D17 -> 4830
B27: Arbetsgivaravgift | C27: =G17 -> 3063.36
B28: Utbetalas juni | C28: =E22+C25 -> 16370
B29: Betalas i juli; arb avg | C29: =C27 -> 3063.36

Sheet Arvoden2014
B4: ARVODEN, Skatt o Arbetsgivaravgift samt reseersättning Utbetalningsunderlag 2013-2014. Utbetalas på årsmöte 2014.
L5: Deltagit på möten:
B6: Namn | C6: ARVODE Brutto | D6: Skatt 35 % | E6: Arvode netto efter skatt | F6: Arbetsgivaravgift född före 1945 10,21 %, senare än 1945, 29,71% | H6: Antal möten from juni 2013 tom maj 2014 | I6: Rese- ersättning 200:-/möte KRONOR | J6: Ersättning för lokal och förtäring vid mötena | K6: Utbetalning Reseerättning + Arvode på Årsmötet 2014 KRONOR | L6: FÖRE Årsmötet | M6: Aug | N6: Nov | O6: Feb | P6: Maj | Q6: Totalt
B7: Curt Lundqvist | C7: 6000 | D7: =0.35*C7 -> 2100 | E7: =C7-D7 -> 3900 | F7: 0.1021 | G7: =C7*F7 -> 612.6 | H7: 5 | I7: =H7*200 -> 1000 | J7: 200 | K7: =E7+I7+J7 -> 5100 | L7: 1 | M7: 1 | N7: 1 | O7: 1 | P7: 1 | Q7: =SUM(L7:P7) -> 5
B8: Kajsa Björkman | C8: 4600 | D8: =0.35*C8 -> 1610 | E8: =C8-D8 -> 2990 | F8: 0.3142 | G8: =C8*F8 -> 1445.32 | H8: 5 | I8: =H8*200 -> 1000 | J8: 200 | K8: =E8+I8+J8 -> 4190 | L8: 1 | M8: 1 | N8: 1 | O8: 1 | P8: 1 | Q8: =SUM(L8:P8) -> 5
B9: Kjell Rudaues | C9: 3200 | D9: =0.35*C9 -> 1120 | E9: =C9-D9 -> 2080 | F9: 0.3142 | G9: =C9*F9 -> 1005.44 | H9: 5 | I9: =H9*200 -> 1000 | K9: =E9+I9+J9 -> 3080 | L9: 1 | M9: 1 | N9: 1 | O9: 1 | P9: 1 | Q9: =SUM(L9:P9) -> 5
B10: Björn Norrblom | C10: 0 | E10: =C10-D10 -> 0 | G10: =C10*F10 -> 0 | H10: 5 | I10: =H10*200 -> 1000 | K10: =E10+I10+J10 -> 1000 | L10: 1 | M10: 1 | N10: 1 | O10: 1 | P10: 1 | Q10: =SUM(L10:P10) -> 5
B11: Ros-Marie Köhler | C11: 0 | E11: =C11-D11 -> 0 | G11: =C11*F11 -> 0 | H11: 5 | I11: =H11*200 -> 1000 | J11: 200 | K11: =E11+I11+J11 -> 1200 | L11: 1 | M11: 1 | N11: 1 | O11: 1 | P11: 1 | Q11: =SUM(L11:P11) -> 5
B12: Robert Nyberg | C12: 0 | E12: =C12-D12 -> 0 | G12: =C12*F12 -> 0 | H12: 4 | I12: =H12*200 -> 800 | K12: =E12+I12+J12 -> 800 | L12: 1 | N12: 1 | O12: 1 | P12: 1 | Q12: =SUM(L12:P12) -> 4
B13: Stig Persson | C13: 0 | E13: =C13-D13 -> 0 | G13: =C13*F13 -> 0 | H13: 4 | I13: =H13*200 -> 800 | J13: 200 | K13: =E13+I13+J13 -> 1000 | M13: 1 | N13: 1 | O13: 1 | P13: 1 | Q13: =SUM(L13:P13) -> 4
B14: Gunilla Fredriksson | C14: 0 | E14: =C14-D14 -> 0 | G14: =C14*F14 -> 0 | H14: 3 | I14: =H14*200 -> 600 | K14: =E14+I14+J14 -> 600 | N14: 1 | O14: 1 | P14: 1 | Q14: =SUM(L14:P14) -> 3
B15: Ann-Britt Ekner | C15: 0 | E15: =C15-D15 -> 0 | G15: =C15*F15 -> 0 | H15: 1 | I15: =H15*200 -> 200 | K15: =E15+I15+J15 -> 200 | L15: 1 | Q15: =SUM(L15:P15) -> 1
B16: Revisorer | C16: 800 | D16: 0 | E16: =C16-D16 -> 800 | G16: =C16*F16 -> 0 | H16: 0 | I16: =H16*200 -> 0 | K16: =E16+I16+J16 -> 800 | Q16: =SUM(L16:P16) -> 0
B17: Summa | C17: =SUM(C7:C16) -> 14600 | D17: =SUM(D7:D16) -> 4830 | E17: =SUM(E7:E16) -> 9770 | G17: =SUM(G7:G16) -> 3063.36 | H17: =SUM(H7:H16) -> 37 | I17: =H17*200 -> 7400 | J17: =SUM(J7:J16) -> 800 | K17: =SUM(K7:K16) -> 17970 | L17: =SUM(L7:L16) -> 7 | M17: =SUM(M7:M16) -> 6 | N17: =SUM(N7:N16) -> 8 | O17: =SUM(O7:O16) -> 8 | P17: =SUM(P7:P16) -> 8 | Q17: =SUM(Q7:Q16) -> 37
I20: Arvoden | K20: =E17 -> 9770 | M20: = utbetalt 2014-06-17 | O20: =K7+K8+K9+K11+K12+K13+K15+400 -> 15970
B21: SUMMERING | C21: 2013-2014 | I21: Reseersättning | K21: =I17+J17 -> 8200 | O21: Arvode | P21: =E7+E8+E9+400 -> 9370
B22: Styrelsearvode+ Rev | C22: =SUM(C7:C16) -> 14600 | D22: Netto | E22: =SUM(E6:E16) -> 9770 | I22: Soc + skatt | K22: =D17+G17 -> 7893.36 | O22: Reseers | P22: =O20-P21 -> 6600
B23: Stig timlön | C23: 310 | D23: Netto | E23: 201.5 | I23: =(80*310)+3077 -> 27877 | J23: =I23*0.35 -> 9756.95 | K23: =F7*I23 -> 2846.2417 | N23: = utbetalt 2014-06-18 | P23: =K10+K14 -> 1600
B24: Total prel skatt | C24: =D17 -> 4830
B25: Total reseersättning | C25: =I17+J17 -> 8200 | I25: =I23-J23 -> 18120.05 | K25: =K22+J23+K23 -> 20496.552
B26: Arbetsgivaravgift | C26: =G17 -> 3063.36 | I26: =I25+Bokföring!X106+600 -> 24436.53
B27: Utbetalas juni | C27: =E22+C25 -> 17970
B28: Arb giv+prelskatt | C28: =C24+C26 -> 7893.36

Sheet Arvoden2015
I2: 200
B4: ARVODEN, Skatt o Arbetsgivaravgift samt reseersättning Utbetalningsunderlag 2014-2015. Utbetalas på årsmöte 2015.
L5: Deltagit på möten:
B6: Namn | C6: ARVODE Brutto | D6: Skatt 35 % | E6: Arvode netto efter skatt | F6: Arbetsgivaravgift född före 1945 10,21 %, senare än 1945, 29,71% | H6: Antal möten from juni 2013 tom maj 2014 | I6: Rese- ersättning 200:-/möte KRONOR | J6: Ersättning för lokal och förtäring vid mötena | K6: Utbetalning Reseerättning + Arvode på Årsmötet 2014 KRONOR | L6: FÖRE Årsmötet | M6: Aug | N6: Feb | O6: Maj | P6: Totalt
B7: Curt Lundqvist | C7: 6000 | D7: =0.35*C7 -> 2100 | E7: =C7-D7 -> 3900 | F7: 0.1021 | G7: =C7*F7 -> 612.6 | H7: =P7 -> 4 | I7: =H7*$I$2 -> 800 | J7: 200 | K7: =E7+I7+J7 -> 4900 | L7: 1 | M7: 1 | N7: 1 | O7: 1 | P7: =SUM(L7:O7) -> 4
B8: Kajsa Björkman | C8: 4600 | D8: =0.35*C8 -> 1610 | E8: =C8-D8 -> 2990 | F8: 0.3142 | G8: =C8*F8 -> 1445.32 | H8: =P8 -> 4 | I8: =H8*$I$2 -> 800 | J8: 200 | K8: =E8+I8+J8 -> 3990 | L8: 1 | M8: 1 | N8: 1 | O8: 1 | P8: =SUM(L8:O8) -> 4
B9: Ingrid Staflin | C9: 3200 | D9: =0.35*C9 -> 1120 | E9: =C9-D9 -> 2080 | F9: 0.3142 | G9: =C9*F9 -> 1005.44 | H9: =P9 -> 4 | I9: =H9*$I$2 -> 800 | K9: =E9+I9+J9 -> 2880 | L9: 1 | M9: 1 | N9: 1 | O9: 1 | P9: =SUM(L9:O9) -> 4
B10: Björn Norrblom | C10: 0 | E10: =C10-D10 -> 0 | G10: =C10*F10 -> 0 | H10: =P10 -> 4 | I10: =H10*$I$2 -> 800 | K10: =E10+I10+J10 -> 800 | L10: 1 | M10: 1 | N10: 1 | O10: 1 | P10: =SUM(L10:O10) -> 4
B11: Ros-Marie Köhler | C11: 0 | E11: =C11-D11 -> 0 | G11: =C11*F11 -> 0 | H11: =P11 -> 4 | I11: =H11*$I$2 -> 800 | K11: =E11+I11+J11 -> 800 | L11: 1 | M11: 1 | N11: 1 | O11: 1 | P11: =SUM(L11:O11) -> 4
B12: Leif Rurling | C12: 0 | E12: =C12-D12 -> 0 | G12: =C12*F12 -> 0 | H12: =P12 -> 4 | I12: =H12*$I$2 -> 800 | K12: =E12+I12+J12 -> 800 | L12: 1 | M12: 1 | N12: 1 | O12: 1 | P12: =SUM(L12:O12) -> 4
B13: Stig Persson | C13: 0 | E13: =C13-D13 -> 0 | G13: =C13*F13 -> 0 | H13: =P13 -> 1 | I13: =H13*$I$2 -> 200 | K13: =E13+I13+J13 -> 200 | O13: 1 | P13: =SUM(L13:O13) -> 1
B14: Therese W | C14: 0 | E14: =C14-D14 -> 0 | G14: =C14*F14 -> 0 | H14: =P14 -> 2 | I14: =H14*$I$2 -> 400 | K14: =E14+I14+J14 -> 400 | M14: 1 | O14: 1 | P14: =SUM(L14:O14) -> 2
B15: Kjell Rudeaus | C15: 0 | E15: =C15-D15 -> 0 | G15: =C15*F15 -> 0 | H15: =P15 -> 1 | I15: =H15*$I$2 -> 200 | K15: =E15+I15+J15 -> 200 | L15: 1 | P15: =SUM(L15:O15) -> 1
B16: Revisorer | C16: 800 | D16: 0 | E16: =C16-D16 -> 800 | G16: =C16*F16 -> 0 | H16: 0 | I16: =H16*$I$2 -> 0 | K16: =E16+I16+J16 -> 800 | P16: =SUM(L16:O16) -> 0
B17: Summa | C17: =SUM(C7:C16) -> 14600 | D17: =SUM(D7:D16) -> 4830 | E17: =SUM(E7:E16) -> 9770 | G17: =SUM(G7:G16) -> 3063.36 | H17: =SUM(H7:H16) -> 28 | I17: =H17*200 -> 5600 | J17: =SUM(J7:J16) -> 400 | K17: =SUM(K7:K16) -> 15770 | L17: =SUM(L7:L16) -> 7 | M17: =SUM(M7:M16) -> 7 | N17: =SUM(N7:N16) -> 6 | O17: =SUM(O7:O16) -> 8 | P17: =SUM(P7:P16) -> 28
I20: Arvoden | K20: =E17 -> 9770 | M20: = utbetalt 2014-06-17 | O20: =K7+K8+K9+K11+K12+K13+K15+400 -> 14170
B21: SUMMERING | C21: 2013-2014 | I21: Reseersättning | K21: =I17+J17 -> 6000 | O21: Arvode | P21: =E7+E8+E9+400 -> 9370
B22: Styrelsearvode+ Rev | C22: =SUM(C7:C16) -> 14600 | D22: Netto | E22: =SUM(E6:E16) -> 9770 | I22: Soc + skatt | K22: =D17+G17 -> 7893.36 | O22: Reseers | P22: =O20-P21 -> 4800
B23: Stig timlön | C23: 310 | D23: Netto | E23: 201.5 | I23: =(80*310)+3077 -> 27877 | J23: =I23*0.35 -> 9756.95 | K23: =F7*I23 -> 2846.2417 | N23: = utbetalt 2014-06-18 | P23: =K10+K14 -> 1200
B24: Total prel skatt | C24: =D17 -> 4830
B25: Total reseersättning | C25: =I17+J17 -> 6000 | I25: =I23-J23 -> 18120.05 | K25: =K22+J23+K23 -> 20496.552
B26: Arbetsgivaravgift | C26: =G17 -> 3063.36 | I26: =I25+Bokföring!X106+600 -> 24436.53
B27: Utbetalas juni | C27: =E22+C25 -> 15770 | M27: 30 | N27: 37
B28: Arb giv+prelskatt | C28: =C24+C26 -> 7893.36 | M28: Om 4 möten | N28: Om 5 möten
K29: Om arvoden 250 kr: | M29: =M27*50 -> 1500 | N29: =N27*50 -> 1850
K30: Om arvoden 300 kr: | M30: =M27*100 -> 3000 | N30: =N27*100 -> 3700

Sheet Arvoden2015-alt
I2: 250
B4: ARVODEN, Skatt o Arbetsgivaravgift samt reseersättning Utbetalningsunderlag 2014-2015. Utbetalas på årsmöte 2015.
L5: Deltagit på möten:
B6: Namn | C6: ARVODE Brutto | D6: Skatt 35 % | E6: Arvode netto efter skatt | F6: Arbetsgivaravgift född före 1945 10,21 %, senare än 1945, 29,71% | H6: Antal möten from juni 2013 tom maj 2014 | I6: Rese- ersättning 250:-/möte KRONOR | J6: Ersättning för lokal och förtäring vid mötena | K6: Utbetalning Reseerättning + Arvode på Årsmötet 2014 KRONOR | L6: FÖRE/Efter Årsmötet | M6: Aug | N6: Feb | O6: Maj | P6: Totalt
B7: Curt Lundqvist | C7: 6000 | D7: =0.35*C7 -> 2100 | E7: =C7-D7 -> 3900 | F7: 0.1021 | G7: =C7*F7 -> 612.6 | H7: =P7 -> 4 | I7: =H7*$I$2 -> 1000 | J7: 200 | K7: =E7+I7+J7 -> 5100 | L7: 1 | M7: 1 | N7: 1 | O7: 1 | P7: =SUM(L7:O7) -> 4
B8: Kajsa Björkman | C8: 4600 | D8: =0.35*C8 -> 1610 | E8: =C8-D8 -> 2990 | F8: 0.3142 | G8: =C8*F8 -> 1445.32 | H8: =P8 -> 4 | I8: =H8*$I$2 -> 1000 | J8: 200 | K8: =E8+I8+J8 -> 4190 | L8: 1 | M8: 1 | N8: 1 | O8: 1 | P8: =SUM(L8:O8) -> 4
B9: Ingrid Staflin | C9: 3200 | D9: =0.35*C9 -> 1120 | E9: =C9-D9 -> 2080 | F9: 0.3142 | G9: =C9*F9 -> 1005.44 | H9: =P9 -> 4 | I9: =H9*$I$2 -> 1000 | K9: =E9+I9+J9 -> 3080 | L9: 1 | M9: 1 | N9: 1 | O9: 1 | P9: =SUM(L9:O9) -> 4
B10: Björn Norrblom | C10: 0 | E10: =C10-D10 -> 0 | G10: =C10*F10 -> 0 | H10: =P10 -> 4 | I10: =H10*$I$2 -> 1000 | K10: =E10+I10+J10 -> 1000 | L10: 1 | M10: 1 | N10: 1 | O10: 1 | P10: =SUM(L10:O10) -> 4
B11: Ros-Marie Köhler | C11: 0 | E11: =C11-D11 -> 0 | G11: =C11*F11 -> 0 | H11: =P11 -> 4 | I11: =H11*$I$2 -> 1000 | J11: 200 | K11: =E11+I11+J11 -> 1200 | L11: 1 | M11: 1 | N11: 1 | O11: 1 | P11: =SUM(L11:O11) -> 4
B12: Leif Rurling | C12: 0 | E12: =C12-D12 -> 0 | G12: =C12*F12 -> 0 | H12: =P12 -> 4 | I12: =H12*$I$2 -> 1000 | K12: =E12+I12+J12 -> 1000 | L12: 1 | M12: 1 | N12: 1 | O12: 1 | P12: =SUM(L12:O12) -> 4
B13: Stig Persson | C13: 0 | E13: =C13-D13 -> 0 | G13: =C13*F13 -> 0 | H13: =P13 -> 2 | I13: =H13*$I$2 -> 500 | K13: =E13+I13+J13 -> 500 | L13: 1 | O13: 1 | P13: =SUM(L13:O13) -> 2
B14: Therese W | C14: 0 | E14: =C14-D14 -> 0 | G14: =C14*F14 -> 0 | H14: =P14 -> 2 | I14: =H14*$I$2 -> 500 | K14: =E14+I14+J14 -> 500 | M14: 1 | O14: 1 | P14: =SUM(L14:O14) -> 2
B15: Kjell Rudeaus | C15: 0 | E15: =C15-D15 -> 0 | G15: =C15*F15 -> 0 | H15: =P15 -> 1 | I15: =H15*$I$2 -> 250 | K15: =E15+I15+J15 -> 250 | L15: 1 | P15: =SUM(L15:O15) -> 1
B16: Revisorer | C16: 800 | D16: 0 | E16: =C16-D16 -> 800 | G16: =C16*F16 -> 0 | H16: 0 | I16: =H16*200 -> 0 | K16: =E16+I16+J16 -> 800 | P16: =SUM(L16:O16) -> 0
B17: Summa | C17: =SUM(C7:C16) -> 14600 | D17: =SUM(D7:D16) -> 4830 | E17: =SUM(E7:E16) -> 9770 | G17: =SUM(G7:G16) -> 3063.36 | H17: =SUM(H7:H16) -> 29 | I17: =SUM(I7:I16) -> 7250 | J17: =SUM(J7:J16) -> 600 | K17: =SUM(K7:K16) -> 17620 | L17: =SUM(L7:L16) -> 8 | M17: =SUM(M7:M16) -> 7 | N17: =SUM(N7:N16) -> 6 | ... P17: =SUM(P7:P16) -> 29
I20: Arvoden | K20: =E17 -> 9770 | M20: = utbetalt 2014-06-17 | O20: =K7+K8+K9+K11+K12+K13+K15+400 -> 15720
B21: SUMMERING | C21: 2013-2014 | I21: Reseersättning | K21: =I17+J17 -> 7850 | O21: Arvode | P21: =E7+E8+E9+400 -> 9370
B22: Styrelsearvode+ Rev | C22: =SUM(C7:C16) -> 14600 | D22: Netto | E22: =SUM(E6:E16) -> 9770 | I22: Soc + skatt | K22: =D17+G17 -> 7893.36 | O22: Reseers | P22: =O20-P21 -> 6350
B23: Stig timlön | C23: 310 | D23: Netto | E23: 201.5 | I23: =(80*310)+3077 -> 27877 | J23: =I23*0.35 -> 9756.95 | K23: =F7*I23 -> 2846.2417 | N23: = utbetalt 2014-06-18 | P23: =K10+K14 -> 1500
B24: Total prel skatt | C24: =D17 -> 4830
B25: Total reseersättning | C25: =I17+J17 -> 7850 | I25: =I23-J23 -> 18120.05 | K25: =K22+J23+K23 -> 20496.552
B26: Arbetsgivaravgift | C26: =G17 -> 3063.36 | I26: =I25+Bokföring!X106+600 -> 24436.53
B27: Utbetalas juni | C27: =E22+C25 -> 17620 | M27: 30 | N27: 37
B28: Arb giv+prelskatt | C28: =C24+C26 -> 7893.36 | M28: Om 4 möten | N28: Om 5 möten
K29: Om arvoden 250 kr: | M29: =M27*50 -> 1500 | N29: =N27*50 -> 1850
K30: Om arvoden 300 kr: | M30: =M27*100 -> 3000 | N30: =N27*100 -> 3700

Sheet midsommar2011
A3: Redovisning MIDSOMMAR 2011
C4: 1500 | D4: 1000 | E4: 1000 | F4: 1700
A6: a) Midsommaraktiviter | B6: Lotteriring | C6: Övr lotterier | D6: Pilkastning | E6: Bollkastning | F6: Godis-läsk | G6: Korv | H6: Kaffe/saft | I6: Musikanläggn
A8: Intäkter (fördelningen inte exakt) | B8: =7010 -> 7010 | C8: =850+1229+5404+C4 -> 8983 | D8: =2670+D4 -> 3670 | E8: =2539+E4 -> 3539 | F8: =1616+1589+F4+139 -> 5044 | G8: =150+305 -> 455 | J8: =SUM(B8:I8) -> 28701
A9: Inköp | B9: -3500 | C9: =-(7913)-D9-E9 -> -7061 | D9: =-(154+150+146+40+40+40+40+40+40+152+10)/2 -> -426 | E9: =-(154+150+146+40+40+40+40+40+40+152+10)/2 -> -426 | F9: =-3740-523 -> -4263 | G9: =-(199-19+19.8+37.8+119.7+375-250-40) -> -442.3 | H9: =-(93.8+2.5+3+21.4+10.9-47) -> -84.6 | I9: -1000 | J9: =SUM(B9:I9) -> -17202.9
A13: Netto | B13: =B8+B9 -> 3510 | C13: =C8+C9 -> 1922 | D13: =D8+D9 -> 3244 | E13: =E8+E9 -> 3113 | F13: =F8+F9 -> 781 | G13: =G8+G9 -> 12.7 | H13: =H8+H9 -> -84.6 | I13: =I8+I9 -> -1000 | J13: =SUM(J8:J11) -> 11498.1
F19: IB | G19: =15722.07+9900 -> 25622.07 | H19: 38417.72 | I19: =H19-G19 -> 12795.65 | J19: =J13+B29 -> 12795.75
J20: =I19-J19 -> -0.1
A25: b) Midsommarbingo
A27: Försäljning | B27: 10000
A28: Vinster | B28: =1320.65-9000-648-375 -> -8702.35
A29: Netto | B29: =SUM(B27:B28) -> 1297.65

Sheet midsommar2012
A3: Redovisning MIDSOMMAR 2012
A6: Midsommarkontot - bankkontot | C6: Intäkter | D6: Kostnader | E6: Saldo
A8: Ingående saldo 2012-01-01 | E8: =38984.86 -> 38984.86
A9: Ränta | E9: 567.14
A10: Överföring till pg i samband med bokslutet | E10: =-(14700+967+2316.99) -> -17983.99
A12: Netto FÖRE årets transaktioner | E12: =E8+E9+E10 -> 21568.01
A15: a) Stora lotteriet | C15: 7000 | D15: -2659 | E15: =C15+D15 -> 4341
B17: Lotteri | D17: =-(2263.75+2257.5+136.5) -> -4657.75
B18: Godis, popcorn mm | D18: =-(2551.8+220) -> -2771.8
B19: Korv, kaffe mm | D19: =-(78.6+590.5+55) -> -724.1
B20: Fiskdamm | D20: =-(925+47.5) -> -972.5
B21: Spel, medaljer | D21: =-(79.6+39.8+39.8+79.6+39.8+39.8+82.8) -> -401.2
B22: Ers för traktor | D22: =-279 -> -279
B23: Läsk | D23: =-(828-84) -> -744
A24: b) Övrigt för spel, godisförsäljning mm | C24: =1537+31350-C26-C15+2000-291 -> 15209.7 | D24: =SUM(D17:D23) -> -10550.35 | E24: =C24+D24 -> 4659.35
A26: c) Bingo, midsommardagen | C26: =-D26+E26 -> 12386.3 | D26: =-(448+2790.3+448) -> -3686.3 | E26: =8700 -> 8700
A28: d) Ers för el och musikanläggning | D28: -2000 | E28: =D28 -> -2000
A30: Netto hela midsommarhelgen | C30: =C15+C24+C26+C28 -> 34596 | D30: =D15+D24+D26+D28 -> -18895.65 | E30: =C30+D30 -> 15700.35
A32: Utgående saldo per 2012-08-22 | E32: =E12+E30 -> 37268.36
A35: Fg år Midsommarbingon netto 1300 (intäkter 10000 - priser 8700 kr)
A36: Övriga aktivitetet ca 12800
A37: Totalt + 14 100 kr

Sheet midsommar2013
A3: Redovisning MIDSOMMAR 2013
A6: Midsommarkontot - bankkontot | C6: Intäkter | D6: Kostnader | E6: Saldo
A8: Ingående saldo 2012-01-01 | E8: =37815.23-547.56 -> 37267.67
A9: Ränta | E9: 547.56
A10: Inköp sopkorgar | E10: =-9000-1800 -> -10800
A12: Netto FÖRE årets transaktioner | E12: =E8+E9+E10 -> 27015.23
A15: a) Stora lotteriet | C15: 7000 | D15: =-2982-315 -> -3297 | E15: =C15+D15 -> 3703 | F15: (kostn inkl lottringar)
B17: Lotteri | D17: =-(7163+D20) -> -6468.2
B18: Godis, fiskdamm mm | D18: -1444
B19: Korv, muffins mm | D19: =-332-53.1-262-120 -> -767.1
B20: Spel, medaljer | D20: =-(81.6+81.6+81.6+81.6+81.6+81.6+66.24)*1.25 -> -694.8
B21: Ers för traktor | D21: -360
B22: Läsk | D22: -844
B23: Övrigt | D23: =-160-81 -> -241 | F23: (flaggor, sopsäckar mm)
A24: b) Övrigt för spel, godisförsäljning mm | C24: =29490+2179+2542-C15-C28+727 -> 19938 | D24: =SUM(D17:D23) -> -10819.1 | E24: =C24+D24 -> 9118.9
A26: c) Orkester | D26: -8000 | E26: =C26+D26 -> -8000
A28: d) Bingo, midsommardagen (intäkterna beräknade) | C28: =8000 -> 8000 | D28: =-3274 -> -3274 | E28: =C28+D28 -> 4726
A30: e) Ers för el | D30: -500 | E30: =C30+D30 -> -500
A32: f) Tipspromenad | C32: 1920 | D32: 0 | E32: =C32+D32 -> 1920
A34: Netto hela midsommarhelgen | C34: =C15+C24+C28+C30+C32 -> 36858 | D34: =D15+D24+D28+D30+D26+D32 -> -25890.1 | E34: =C34+D34 -> 10967.9
A36: Utgående saldo per 2013-06-30 | E36: =E12+E34 -> 37983.13
A39: 2012: Lotterier, spel, el mm = 7000 kr
A40: Midsommarbingon: 8 700 kr (priser 3 686 kr)
A41: Totalt + 15 700 kr
A43: 2011: Midsommarbingon netto 1300 (intäkter 10000 - priser 8700 kr)
A44: Övriga aktivitetet ca 12800
A45: Totalt + 14 100 kr
A47: OBS!! 2011+2012 ingen orkester, men då 1500 kr för utrustning

Sheet midsommar 2014
A3: Redovisning MIDSOMMAR 2014 | B3: UNGEFÄRLIG BERÄKNING
A6: Midsommarkontot - bankkontot | C6: Intäkter | D6: Kostnader | E6: Saldo
A8: Ingående saldo 2014-01-01 | E8: 31557.23
A9: Ränta | E9: 322.11
A10: Sand till sandlådor | E10: -2283
A12: Netto FÖRE årets transaktioner | E12: =E8+E9+E10 -> 29596.34
A15: a) Midsommarafton
B17: Priser till stora lotteriet | D17: =-2755-273 -> -3028 | F17: inkl lottringar
B18: Lotteri | D18: =-2255.75 -> -2255.75
B19: Godis, fiskdamm mm | D19: =-1766-199 -> -1965
B20: Fiskdamm | D20: =-975-48.5 -> -1023.5
B21: Spel, medaljer | D21: =-(83.6+83.6+83.6+83.6+83.6+83.6+66.24) -> -567.84
B22: Ers för traktor, sång, el | D22: =-200-500-500 -> -1200
A25: Summa midsommarafton | C25: =10900+1290+2755+1200-36 -> 16109 | D25: =SUM(D17:D24) -> -10040.09 | E25: =C25+D25 -> 6068.91
A27: c) Bingo, midsommardagen | C27: 9080 | D27: =-3200-265 -> -3465 | E27: =C27+D27 -> 5615 | F27: 500 kr i presentkort kvar
F28: 4 x 100 kr Rusta + 1 x 100 kr blomsterlandet
A29: Netto hela midsommarhelgen | C29: =C15+C25+C27 -> 25189 | D29: =D15+D25+D27 -> -13505.09 | E29: =E15+E25+E27 -> 11683.91 | F29: =E29+500 -> 12183.91 | G29: inkl presentkorten
A31: Utgående saldo per 2014-06-30 | E31: =E12+E29 -> 41280.25
A33: 2013: Lotterier, spel, el mm = 4 322 kr | B33: (Orkester för 8000 kr)
A34: Midsommarbingon: 4 726 kr (priser 3 274 kr)
A35: Tipspromenad: 1920 kr
A36: Totalt + 10 968 kr kr
A38: 2012: Lotterier, spel, el mm = 7000 kr
A39: Midsommarbingon: 8 700 kr (priser 3 686 kr)
A40: Totalt + 15 700 kr
A42: 2011: Midsommarbingon netto 1300 (intäkter 10000 - priser 8700 kr)
A43: Övriga aktivitetet ca 12800
A44: Totalt + 14 100 kr
A46: OBS!! 2011+2012 ingen orkester, men då 1500 kr för utrustning

Sheet Skattekonto
A4: Omfattar transaktionstyp: Alla fr.o.m. 2012-01-01 t.o.m. 2014-02-12, sorterade efter transaktiondag. (Sortera genom att klicka på rubrikerna.)
A7: Trans.dag | B7: Specifikation | C7: Belopp
B8: Ingående saldo 2012-01-01 | C8: -8
A9: 41032 | B9: Inbetalning bokförd 120430 | C9: 701
A10: 41043 | B10: Arbetsgivaravgift april 2012 | C10: -158
A11: 41043 | B11: Avdragen skatt april 2012 | C11: -543
A12: 41144 | B12: Inbetalning bokförd 120822 | C12: 10 415
A13: 41153 | B13: Intäktsränta | C13: 2
A14: 41164 | B14: Arbetsgivaravgift aug 2012 | C14: -3 632
A15: 41164 | B15: Avdragen skatt aug 2012 | C15: -6 783
A16: 41188 | B16: Intäktsränta | C16: 1
A17: 41264 | B17: Inbetalning bokförd 121220 | C17: 6 997
A18: 41279 | B18: Intäktsränta | C18: 2
A19: 41291 | B19: Arbetsgivaravgift dec 2012 | C19: -1 580
A20: 41291 | B20: Avdragen skatt dec 2012 | C20: -5 417
A21: 41307 | B21: Intäktsränta | C21: 1
A22: 41505 | B22: Arbetsgivaravgift juli 2013 | C22: -4 075
A23: 41505 | B23: Avdragen skatt juli 2013 | C23: -8 302
A24: 41506 | B24: Inbetalning bokförd 130819 | C24: 12 379
A25: 41561 | B25: Arbetsgivaravgift sept 2013 | C25: -822
A26: 41561 | B26: Avdragen skatt sept 2013 | C26: -2 821
A27: 41562 | B27: Inbetalning bokförd 131014 | C27: 3 643
A28: 41585 | B28: Inbetalning bokförd 131106 | C28: 3 072
A29: 41590 | B29: Arbetsgivaravgift okt 2013 | C29: -693
A30: 41590 | B30: Avdragen skatt okt 2013 | C30: -2 379
B31: Utgående saldo 2014-02-12 | C31: 0
